Workbook

Sheet Indicators and data sources
B2: Numbering | C2: Source of risk | D2: Overview of identified potential indicators | E2: Description | F2: Contributes to the risk: A company may not have access to a product | G2: Contributes to the risk: A product may change suddenly substantially in price | H2: Contributes to the risk: A company's reputation may be affected by the use of a product | I2: Country-dependent index / Indicators weighted by producing or exporting countries | J2: Relevance for minerals/metals | K2: Relevance for biotic materials | L2: Included in IRTC | M2: Included in BIRD | N2: Included in GeoPolRisk | O2: Included in Ioannidou | P2: Relevance for natural growth (e.g. of bamboo) | Q2: Relevance for cultivation (e.g. of bamboo) | R2: Relevance for processing (e.g. treatment of bamboo) | S2: Relevance for production of intermediate product (e.g. viscose) | T2: Relevance for production of final product (e.g. textile clothing) | U2: Original score range | V2: Transformation to 0-100 scale, with a higher score reflecting a higher risk | W2: (Suggested) data source(s) | X2: Reference year | Y2: Wood covered? How detailed, different types of wood? | Z2: Biochemicals covered? | AA2: Pulp and paper covered? | AB2: Textile covered? | AC2: Other construction materials? | AD2: Other biomaterials covered? Which? | AE2: Colonne1
B3: 1 | C3: Supply is dominated in a few countries | D3: Concentration of mining countries | E3: The concentration of mining countries gives an indication of the diversity of the supply from mines. It is calculated by the Herfindahl–Hirschman Index (HHI), based on the number of mining countries and their contribution (in %) to the annual production. The Herfindahl–Hirschman Index (HHI) is calculated as follows: HHI(a)= ∑_(i=1)^N▒〖(a_i^2)〗, where: N is the number of mining countries, and ai is the contribution (in %) of a country to the annual production from mining multiplied by 100. | F3: X | G3: X | I3: Yes | J3: x | L3: x | N3: x | U3: [0 – 10 000] from highly diversified (0) to highly concentrated (10 000) | V3: 17.5 x ln (HHI) – 61.18 (see (Graedel et al. 2012)) | W3: (U.S. Geological Survey 2022) (European Commission 2019) (European Commission 2020a) (European Commission 2020b) | X3: 2021
B4: 2 | C4: Supply is dominated in a few countries | D4: Concentration of biotic resources | E4: The concentration of resources refers to the number of countries where the considered species (resource) is available and can be extracted as well as their share in the global stocks are reflected. In case all species occur in only few countries, the concentration and as consequence risk of limited availability is high. This category only applies to species used as biotic resources and not to man-made biotic materials because only species used as biotic resources occur in nature. The Herfindahl–Hirschman Index (HHI) is calculated as follows: HHI(a)= ∑_(i=1)^N▒〖(a_i^2)〗, where: N is the number of countries holding biotic resources, and ai is the contribution (in %) of a country to the annual production from these resources multiplied by 100. | F4: X | G4: X | I4: Yes | K4: x | M4: x | P4: x | U4: [0 – 10 000] from highly diversified (0) to highly concentrated (10 000) | V4: 17.5 x ln (HHI) – 61.18 (see (Graedel et al. 2012)) | W4: Index mundi FAOSTAT, 2022 Section: Crops and livestock products Element: production | X4: 2022 | Y4: Flax, raw or retted Hempseed Linseed True hemp, raw or retted Cottonseed Wheat | Z4: Barley Lupins Cottonseed oil Linseed oil Soybeans Sunflower-seed oil, crude Maize (corn) Peas, dry Sugar beet Molasses Mustard seed Tallow Palm oil | AA4: Cotton lint, ginned Cotton seed Flax, raw or retted Kenaf, and other textile bast fibers, raw or retted Sisal, raw Cereals, primary Hemp Jute Wheat | AB4: Cottonseed Flax, raw or retted Hempseed True hemp, raw or retted Wool (shorn wool, greasy) Linen and hemp | AC4: Hempseed True hemp, raw or retted Flax, raw or retted Wheat Cottonseed Rice Sunflower seed
B5: 3 | C5: Supply is dominated in a few countries | D5: Concentration of harvesting | E5: Concentration of harvesting refers to the number of countries harvesting species used as biotic materials and the share of the globally produced material. Limited availability can occur when most of the harvesting activities occur in only few countries. This category applies to biotic resources as well as man-made biotic materials because for both species are harvested. The Herfindahl–Hirschman Index (HHI) is calculated as follows: HHI(a)= ∑_(i=1)^N▒〖(a_i^2)〗, where: N is the number of harvesting countries, and ai is the contribution (in %) of a country to the annual production multiplied by 100. | F5: X | G5: X | I5: Yes | K5: x | M5: x | Q5: x | U5: [0 – 10 000] from highly diversified (0) to highly concentrated (10 000) | V5: 17.5 x ln (HHI) – 61.18 (see (Graedel et al. 2012)) | W5: Index mundi World Bank - WDI | X5: Various, typically not after 2022 | Y5: Cotton Cottonseed meal, cottonseed oil Rapeseed oil Sunflowerssed oil | Z5: Barley Corn Cotton Cottonseed Oil | AA5: Barley Cotton Cottonseed oil Coconut oil Palm oil Rapeseed oil | AB5: Cotton Cottonseed Meal Cottonseed Oil Coconut oil Palm oil Peanut oil Palm oil Soybean oil Soybean meal Sunflowerseed oil | AC5: Cotton Cottonseed oil Soybean oil Rapeseed oil Palm oil | AF5: The HHI can also be used to assess the concentration of harvesting activities, considering the size of each country's share of total harvesting with the total harvested amounts (production or extraction volumes) for each country.
B6: 4 | C6: Supply is dominated in a few countries | D6: Concentration of producing countries of intermediate and final products | E6: The Herfindahl-Hirschman Index (HHI) can also indicate the concentration of countries that produce intermediate and final products, similar as the concentration of mining, refining, or harvesting countries. | F6: X | G6: X | I6: Yes | J6: x | K6: x | L6: x | M6: x | R6: x | S6: x | T6: x | U6: [0 – 10 000] from highly diversified (0) to highly concentrated (10 000) | V6: 17.5 x ln (HHI) – 61.18 (see (Graedel et al. 2012))
B7: 5 | C7: Supply is dominated in a few countries | D7: Concentration of refining countries | E7: The refining/processing stage, also called the post-mining stage for minerals/metals, is a series of operations that transform raw materials into substances that are used to make products. The concentration of refining countries gives an indication of the diversity of the supply from refineries. It is calculated by the Herfindahl–Hirschman Index (HHI), based on the number of refining countries and their contribution (in %) to the annual production. The Herfindahl–Hirschman Index (HHI) is calculated as follows: HHI(a)= ∑_(i=1)^N▒〖(a_i^2)〗, where: N is the number of refining countries, and ai is the contribution (in %) of a country to the annual production from refining/processing multiplied by 100. | F7: X | G7: X | I7: Yes | J7: x | K7: x | L7: x | U7: [0 – 10 000] from highly diversified (0) to highly concentrated (10 000) | V7: 17.5 x ln (HHI) – 61.18 (see (Graedel et al. 2012)) | W7: (U.S. Geological Survey 2022) (European Commission 2019) (European Commission 2020a) (Adamas Intelligence 2019) | X7: 2021
B8: 6 | C8: Material is difficult to store | D8: (Country-dependent) moisture content | E8: Country-dependent moisture content refers to the varying water levels in materials like biomass, soil, or agricultural products, influenced by a country's climate, geography, and farming practices. High moisture content can complicate storage, increasing risks of insect infestations, fungal growth, and spoilage | F8: X | G8: X | I8: No | K8: x | M8: x | Q8: x (not in BIRD) | R8: x | S8: x | T8: x | U8: Percentage of humidity in a product | V8: No conversion needed | W8: Various. Most likely primary data. | X8: Various
B9: 7 | C9: Supplying country is subject to an unstable investment climate | D9: WGI – Political stability & absence of Violence/terrorism | E9: The Worldwide Governance Indicator “Political stability & absence of violence/terrorism” indicates the likelihood of destabilization or overthrowing of the government by unconstitutional or violent means, including politically motivated violence and terrorism. | F9: X | G9: X | I9: Yes | J9: x | K9: x | L9: x | P9: x | Q9: x | R9: x | S9: x | T9: x | U9: [0-100] From weak to strong | V9: 100-WGIpercentile score | W9: (World Bank 2022) | X9: 2020 | Y9: Only dependent on the country, not in the material/product
B10: 8 | C10: Supplying country is subject to an unstable investment climate | D10: WGI - Government effectiveness | E10: The Worldwide Governance Indicator “Government effectiveness” gives information about the quality of public services, civil service, the degree of its independence from political pressures, the quality of policy formulation and implementation, and the credibility of the government’s commitment to such policies. | F10: X | G10: X | I10: Yes | J10: x | K10: x | L10: x | P10: x | Q10: x | R10: x | S10: x | T10: x | U10: [0-100] From weak to strong | V10: 100-WGIpercentile score | W10: (World Bank 2022) | X10: 2020 | Y10: Only dependent on the country, not in the material/product
B11: 9 | C11: Supplying country is subject to an unstable investment climate | D11: WGI - Regulatory Quality | E11: The Worldwide Governance Indicator “Regulatory quality” gives information about the ability of the government to formulate and implement sound policies and regulations that permit and promote the development of the private sector. | F11: X | G11: X | I11: Yes | J11: x | K11: x | L11: x | P11: x | Q11: x | R11: x | S11: x | T11: x | U11: [0-100] From weak to strong | V11: 100-WGIpercentile score | W11: (World Bank 2022) | X11: 2020 | Y11: Only dependent on the country, not in the material/product
B12: 10 | C12: Supplying country is subject to an unstable investment climate | D12: Economic Vulnerability Index | E12: The EVI aims to measure developing countries’ structural vulnerability, vulnerability resulting from transitory features such as economic policy cannot be used as a criterion for long run aid allocation. The EVI is hence a synthetic index of the magnitude of shocks and the exposure to shocks. The EVI is an arithmetic average of different indexes | F12: X | G12: X | I12: Yes | J12: x | K12: x | M12: x | Q12: x (not in BIRD) | R12: x | S12: x | T12: x | U12: [0-100] The higher the worse | V12: No conversion needed | W12: UN CDP, 2024 | X12: 2024 | Y12: Only dependent on the country, not in the material/product
B13: 11 | C13: Supplying country is subject to an unstable investment climate | D13: Economic Vulnerability Index - Share of population living in low elevated coastal zones | E13: Measure the share of the population in a country living in low elevated coastal zones (below 5 meters) | F13: X | G13: X | I13: Yes | J13: x | K13: x | M13: x | Q13: x (not in BIRD) | R13: x | S13: x | T13: x | U13: [0-100] | V13: No conversion needed | W13: UN CDP, 2029 | X13: 2029
B14: 12 | C14: Supplying country is subject to an unstable investment climate | D14: Economic Vulnerability Index - Share of population living in drylands | E14: Share of population living in drylands | F14: X | G14: X | I14: Yes | J14: x | K14: x | M14: x | Q14: x (not in BIRD) | R14: x | S14: x | T14: x | U14: [0-100] | V14: No conversion needed | W14: UN CDP, 2030 | X14: 2030
B15: 13 | C15: Supplying country is subject to an unstable investment climate | D15: Economic Vulnerability Index - Share of agriculture, forestry and fisheries | E15: Percentage share of the agriculture, hunting, forestry and fishing sectors in the gross value added of a country | F15: X | G15: X | I15: Yes | J15: x | K15: x | M15: x | Q15: x (not in BIRD) | R15: x | S15: x | T15: x | U15: [0-100] | V15: No conversion needed | W15: UN CDP, 2025 | X15: 2025
B16: 14 | C16: Supplying country is subject to an unstable investment climate | D16: Economic Vulnerability Index - Remoteness and landlockedness | E16: Weighted average distance from neerest trading partners with a cumulative share in world trade of 50% | F16: X | G16: X | I16: Yes | J16: x | K16: x | M16: x | Q16: x (not in BIRD) | R16: x | S16: x | T16: x | U16: [0-100] | V16: No conversion needed | W16: UN CDP, 2026 | X16: 2026
B17: 15 | C17: Supplying country is subject to an unstable investment climate | D17: Economic Vulnerability Index - Export instability | E17: Standard deviation of the difference between the value of annual export earnings and its 20-year trend | F17: X | G17: X | I17: Yes | J17: x | K17: x | M17: x | Q17: x (not in BIRD) | R17: x | S17: x | T17: x | U17: [0-100] | V17: No conversion needed | W17: UN CDP, 2028 | X17: 2028
B18: 16 | C18: Supplying country is subject to an unstable investment climate | D18: Economic Vulnerability Index - Export concentration | E18: Measures the product and market concentration of a country's exports | F18: X | G18: X | I18: Yes | J18: x | K18: x | M18: x | Q18: x (not in BIRD) | R18: x | S18: x | T18: x | U18: [0-100] | V18: No conversion needed | W18: UN CDP, 2027 | X18: 2027
B19: 17 | C19: Supplying country is subject to an unstable investment climate | D19: Economic Vulnerability Index - Agricultural instability | E19: Standard deviation of the difference between agricultural production and its 20-year trend | F19: X | G19: X | I19: Yes | J19: x | K19: x | M19: x | Q19: x (not in BIRD) | R19: x | S19: x | T19: x | U19: [0-100] | V19: No conversion needed | W19: UN CDP, 2031 | X19: 2031
B20: 18 | C20: Supplying country is subject to an unstable investment climate | D20: Economic Vulnerability Index - Victims of disasters (%) | E20: Share of population who are victims of disasters, defined as deaths, missing persons and directly affected persons attributed to disasters | F20: X | G20: X | I20: Yes | J20: x | K20: x | M20: x | Q20: x (not in BIRD) | R20: x | S20: x | T20: x | U20: [0-100] | V20: No conversion needed | W20: UN CDP, 2032 | X20: 2032
B21: 19 | C21: Supplying country is subject to an unstable investment climate | D21: Fragile States Index | E21: This index provides information about the vulnerability to conflict or collapse of countries, based on the following indicators: Security Apparatus, Factionalized Elites, Group Grievance, Economic Decline and Poverty, Uneven Economic Development, Human Flight and Brain Drain, State Legitimacy, Public Services, Human Rights and Rule of Law, Demographic Pressures, Refugees and Internally Displaced Persons, and External Intervention. | F21: X | G21: X | I21: Yes | J21: x | K21: x | L21: x | P21: x | Q21: x | R21: x | S21: x | T21: x | U21: [0-120] The higher the index, the worse the situation | V21: 100 x (FSI value/120) | W21: (The Fund for Peace 2023) | X21: 2022 | Y21: Only dependent on the country, not in the material/product
B22: 20 | C22: Supplying country is subject to political instability | D22: WGI - Voice and accountability | E22: The Worldwide Governance Indicator “Voice and accountability” indicates to which extent a country’s citizens can participate in selecting their government. It also shows the freedom of expression and association and free media. | F22: X | G22: X | I22: Yes | J22: x | K22: x | M22: x | P22: x | Q22: x | R22: x | S22: x | T22: x | U22: [0-100] From weak to strong | V22: 100-WGIpercentile score | W22: (World Bank 2022) | X22: 2020 | AD22: Do not cover biobase materials but political instability | AF22: Forced labour refers to situations where individuals are compelled to work through violence, intimidation, deception, or restricted freedom to leave like in human trafficking for labour exploitation, and involuntary work under threat.
B23: 21 | C23: Supplying country is subject to political instability | D23: WGI – Political stability & absence of Violence/terrorism | E23: The Worldwide Governance Indicator “Political stability & absence of violence/terrorism” indicates the likelihood of destabilization or overthrowing of the government by unconstitutional or violent means, including politically motivated violence and terrorism. | F23: X | G23: X | I23: Yes | J23: x | K23: x | M23: x | N23: x | P23: x | Q23: x | R23: x | S23: x | T23: x | U23: [0-100] From weak to strong | V23: 100-WGIpercentile score | W23: (World Bank 2022) | X23: 2020 | Y23: Only dependent on the country, not in the material/product
B24: 22 | C24: Supplying country is subject to political instability | D24: WGI - Government effectiveness | E24: The Worldwide Governance Indicator “Government effectiveness” gives information about the quality of public services, civil service, the degree of its independence from political pressures, the quality of policy formulation and implementation, and the credibility of the government’s commitment to such policies. | F24: X | G24: X | I24: Yes | J24: x | K24: x | M24: x | P24: x | Q24: x | R24: x | S24: x | T24: x | U24: [0-100] From weak to strong | V24: 100-WGIpercentile score | W24: (World Bank 2022) | X24: 2020 | Y24: Only dependent on the country, not in the material/product | AD24: Do not cover biobase materials but political instability
B25: 23 | C25: Supplying country is subject to political instability | D25: WGI - Regulatory Quality | E25: The Worldwide Governance Indicator “Regulatory quality” gives information about the ability of the government to formulate and implement sound policies and regulations that permit and promote the development of the private sector. | F25: X | G25: X | I25: Yes | J25: x | K25: x | M25: x | P25: x | Q25: x | R25: x | S25: x | T25: x | U25: [0-100] From weak to strong | V25: 100-WGIpercentile score | W25: (World Bank 2022) | X25: 2020 | AD25: Do not cover biobase materials but political instability
B26: 24 | C26: Supplying country is subject to political instability | D26: WGI – Rule of law | E26: The Worldwide Governance Indicator “Rule of law” indicates to which extent agents have confidence in and abide by the rules of society, especially the quality of contract enforcement, property rights, the police, and the courts, and the likelihood of crime and violence. | F26: X | G26: X | I26: Yes | J26: x | K26: x | M26: x | P26: x | Q26: x | R26: x | S26: x | T26: x | U26: [0-100] From weak to strong | V26: 100-WGIpercentile score | W26: (World Bank 2022) | X26: 2020 | AD26: Do not cover biobase materials but political instability
B27: 25 | C27: Supplying country is subject to political instability | D27: WGI – Control of corruption | E27: The Worldwide Governance Indicator “Control of corruption” indicates to which extent public power benefits from private gain, covering all forms of corruption and the control of the state by elites and special interests. | F27: X | G27: X | I27: Yes | J27: x | K27: x | M27: x | P27: x | Q27: x | R27: x | S27: x | T27: x | U27: [0-100] From weak to strong | V27: 100-WGIpercentile score | W27: (World Bank 2022) | X27: 2020 | Y27: Only dependent on the country, not in the material/product
B28: 26 | C28: Supplying country is subject to societal unrest | D28: WGI – Rule of law | E28: The Worldwide Governance Indicator “Rule of law” indicates to which extent agents have confidence in and abide by the rules of society, especially the quality of contract enforcement, property rights, the police, and the courts, and the likelihood of crime and violence. | F28: X | G28: X | I28: Yes | J28: x | K28: x | L28: x | P28: x | Q28: x | R28: x | S28: x | T28: x | U28: [0-100] From weak to strong | V28: 100-WGIpercentile score | W28: (World Bank 2022) | X28: 2020
B29: 27 | C29: Supplying country is subject to societal unrest | D29: WGI – Political stability & absence of Violence/terrorism | E29: The Worldwide Governance Indicator “Political stability & absence of violence/terrorism” indicates the likelihood of destabilization or overthrowing of the government by unconstitutional or violent means, including politically motivated violence and terrorism. | F29: X | G29: X | I29: Yes | J29: x | K29: x | L29: x | P29: x | Q29: x | R29: x | S29: x | T29: x | U29: [0-100] From weak to strong | V29: 100-WGIpercentile score | W29: (World Bank 2022) | X29: 2020 | Y29: Only dependent on the country, not in the material/product
B30: 28 | C30: Supplying country is subject to trade restrictions/ resource nationalism | D30: Export restrictions between 2017-2020 | E30: Share of supply (%) subjected to trade restrictions between 2017-2020 | F30: X | G30: X | I30: Yes | J30: x | K30: x | L30: x | Q30: x | R30: x | U30: Percentage % The higher the worse | V30: No conversion needed | W30: (OECD 2022) (WTO, 2024) | X30: 2021 2024 | Y30: 6 types of wood are covered, for the rest mostly metals and minerals In the WTO, there is wood and articles of wood, cork and articles of cork | Z30: Organic chemicals Pharmaceutical products Fertilisers Tanning or dyeing extracts | AA30: Pulp of wood or of other fibrous cellulosic material Recovered (waste and scrap) paper and paperboard Paper and paperboard, articles of of paper pulp, of paper of of paperboard | AB30: Silk Wool Cotton Other vegetable textile fibres, paper yarn and woven fabrics of paper yarn | AC30: Straw Furniture, mattress supports, prefabricated buildings
B31: 29 | C31: Supplying country is subject to trade restrictions/ resource nationalism | D31: Enabling trade index | E31: Evaluates to which extent economies facilitate the free flow of goods over borders (and to their destination). | F31: X | G31: X | I31: Yes | J31: x | K31: x | L31: x | M31: x | Q31: x | R31: x | S31: x | T31: x | U31: [1-7] A higher score represents a better facilitation of trade | V31: 100 x (1-(ETI value-1)/6) | W31: (World Economic Forum 2016) | X31: 2016 | Y31: Only dependent on the country, not in the material/product
B32: 30 | C32: Supplying country is subject to natural disasters | D32: Not quantified | E32: When a supplying country suffers from natural disasters, such as flooding, tsunamis, landslides, earthquakes, and storms, this can cause damages to mines, refiners, or other production facilities. This can lead to the (temporary) closure of these facilities, causing a supply shortage. There is currently no quantified indicator for this risk source. | F32: X | G32: X | I32: NA | J32: x | K32: x | L32: x | P32: x | Q32: x | R32: x | S32: x | T32: x
B33: 31 | C33: Supplying country is subject to natural disasters (Floods and droughts) | D33: Natural disaster risk (NDR) indicator | E33: The Natural Disaster Risk (NDR) indicator is used to evaluate the vulnerability of supply chains for bio-based materials due to the risk of natural disasters. NDRi = Ʃ(gpsi,x * NDIx) Where: gps: global production share NDI: natural disaster index i= analysed product/material x=production country | F33: X | G33: X | I33: Yes | J33: x | K33: x | M33: x | O33: x | P33: x | Q33: x | R33: x (not in BIRD) | S33: x (not in BIRD) | T33: x (not in BIRD) | U33: [0-100] - The NRI of specific production countries are aggregated and then multiplied by the global production share of the material analysed. The higher the NDRi, the greater the likelihood of restrictions on the availability of bio-based materials. From the BIRD report and the references they mention, I cannot find anywhere the values they included in the suplementary informations or how the natural disaster index is calculated. We suggested the method INFORM from the European Commission which is updated and already has possible values for 2025 per country. https://drmkc.jrc.ec.europa.eu/inform-index/INFORM-Risk/Results-and-data | V33: No conversion needed | W33: NaturaUnited Nations Office for Disaster Risk Reduction https://ec.europa.eu/eurostat/databrowser/view/naio_10_fgfd/default/bar?lang=en&category=na10.naio_10.naio_10_f.naio_10_fg (to check after) | X33: 2013 | AE33: Natural disasters such as floods, droughts, hurricanes, earthquakes, and wildfires can impact regions, affecting both natural and man-made biotic resources. They are particularly critical during cultivation and harvesting stages but can also disrupt other supply chain stages, such as when production facilities are damaged by floods.
B34: 32 | C34: Supplying country is subject to natural disasters | D34: Disease outbreaks | F34: X | G34: X | K34: x | O34: x | P34: x | Q34: x
B35: 33 | C35: Limited availability of resources needed for cultivation | D35: Amount of phosphorous applied (kg) in a product system | E35: Only phosphorus is considered, as it is a limited resource that can significantly restrict agricultural production. Its usage during cultivation is commonly reported in case studies on agricultural systems. | F35: X | G35: X | I35: No | K35: x | M35: x | Q35: x | U35: Any amount. For the determination of phosphor use either measured values provided by the practitioner (e.g., farmer) or average values based on literature research can be used | V35: No conversion needed | W35: Various | X35: Various | AD35: Every type of agricultural systems using phosphorus fertilizer
B36: 34 | C36: Limited availability of resources needed for cultivation | D36: Amount of land used (h/year) in a product system | E36: hectare of land used pe year in a product system | F36: X | G36: X | I36: No | K36: x | M36: x | O36: x | P36: x | Q36: x | U36: Any amount. The amount of land use for the cultivation of a specific species used as a material (with regard to the functional unit) can be determined either by measurements provided by the practitioner (e.g., farmer) or average values based on literature research or within common LCA databases like GaBi and ecoinvent | V36: No conversion needed | AD36: Every type of agricultural systems using land
B37: 35 | C37: Limited availability of resources needed for cultivation | D37: Water Depletion Index (WDI) | E37: The Water Depletion Index (WDI) evaluates the risk of freshwater depletion by considering not just the water consumption but also how water is replenished through processes like atmospheric evaporation and precipitation, while capturing the vulnerability of regions to water shortages, taking into account both the local water availability and the overall water cycle dynamics (e.g., water recycling through evaporation). WSi =Ʃ(gpsi _ WDIx) Where: gps: global production share WDI: natural depletion index i= analysed product/material x=production country | F37: X | G37: X | I37: Yes | K37: x | M37: x | P37: x | Q37: x | R37: Check via hotspot analysis in LCA | S37: Check via hotspot analysis in LCA | T37: Check via hotspot analysis in LCA | U37: [0-1] WDI turns 1 is regarded as the threshold of extreme water stress. A higher WDI indicates a greater depletion risk, meaning that the area’s freshwater resources are under more stress due to consumption or lack of natural replenishment. The WDI of specific production countries are aggregated and then multiplied by the global production share of the material analysed. | W37: https://www.tu.berlin/en/see/research-projects/data-sets-methods-and-tools/wave | X37: 2018
B38: 36 | C38: A product can be associated with environmental impacts that are deemed unacceptable by social norms | D38: Cradle-to-gate Life Cycle Assessment | E38: Cradle-to-gate Life Cycle Assessment (LCA) is a method used to quantify the environmental burdens associated with producing 1 kg of raw material, covering the resource extraction, refining, and distribution stages. These current scores refer to the “environmental implications” (EI) score of Graedel et al., which is based on the endpoint environmental damages to human health and ecosystems. The impacts are given per kilogram of material (cradle-to-gate) using the ReCiPe 1.10 (World) H/H method. Damages to human health and ecosystems refer to the results after normalization and weighting using the hierarchical perspective and weighting set. | F38: X | G38: X | H38: X | I38: No | J38: x | K38: x | L38: x | P38: x | Q38: x | R38: x | S38: x | T38: x | U38: [0 – 100], a higher score represents a higher impact | V38: Normalization to the highest-scoring alternative | W38: (Graedel et al. 2015) | X38: 2015
B39: 37 | C39: A product can be associated with environmental impacts that are deemed unacceptable by social norms | D39: Climate change | E39: Based on PEF. this indicator measures the rise in global temperatures caused by greenhouse gas (GHG) emissions, primarily from fossil fuel combustion (coal, oil, and natural gas). The global warming potential of GHGs is expressed in kilograms of carbon dioxide equivalent (kg CO2 eq), comparing all GHGs to the warming potential of 1 kg of CO2. | F39: X | G39: X | H39: X | I39: No | J39: x | K39: x | M39: x | P39: Assessed at the input gate of the system at risk | Q39: Assessed at the input gate of the system at risk | R39: Assessed at the input gate of the system at risk | S39: Assessed at the input gate of the system at risk | T39: Assessed at the input gate of the system at risk | U39: Any Value | V39: Normalization to the highest-scoring alternative | W39: LCA study
B40: 38 | C40: A product can be associated with environmental impacts that are deemed unacceptable by social norms | D40: Acidification | E40: Based on PEF. Acidification has led to declining coniferous forests and increased fish mortality. It results from air emissions and their deposition in water and soil, primarily from combustion in electricity, heat production, and transport. Fuels with higher sulfur content contribute more to acidification. The impact is measured in moles of hydron equivalents (mol H+ eq), representing substances' acidification potential. | F40: X | G40: X | H40: X | I40: No | J40: x | K40: x | M40: x | P40: Assessed at the input gate of the system at risk | Q40: Assessed at the input gate of the system at risk | R40: Assessed at the input gate of the system at risk | S40: Assessed at the input gate of the system at risk | T40: Assessed at the input gate of the system at risk | U40: Any Value | V40: Normalization to the highest-scoring alternative | W40: LCA study
B41: 39 | C41: A product can be associated with environmental impacts that are deemed unacceptable by social norms | D41: Eutrophication | E41: Based on PEF. Eutrophication impacts ecosystems due to substances containing nitrogen (N) or phosphorus (P), which promotes growth of algae or specific plants. If algae grow too rapidly, it can leave water without enough oxygen for fish to survive. | F41: X | G41: X | H41: X | I41: No | J41: x | K41: x | M41: x | P41: Assessed at the input gate of the system at risk | Q41: Assessed at the input gate of the system at risk | R41: Assessed at the input gate of the system at risk | S41: Assessed at the input gate of the system at risk | T41: Assessed at the input gate of the system at risk | U41: Any Value | V41: Normalization to the highest-scoring alternative | W41: LCA study
...

Sheet Country performance
B1: Indicators | C1: Original score range | D1: Afghanistan | E1: Albania | F1: Algeria | G1: American Samoa | H1: Andorra | I1: Angola | J1: Anguilla | K1: Antigua and Barbuda | L1: Argentina | M1: Armenia | N1: Aruba | O1: Australia | P1: Austria | Q1: Azerbaijan | R1: Bahamas, The | S1: Bahrain | T1: Bangladesh | U1: Barbados | V1: Belarus | W1: Belgium | X1: Belize | Y1: Benin | Z1: Bermuda | AA1: Bhutan | AB1: Bolivia | AC1: Bosnia and Herzegovina | AD1: Botswana | AE1: Brazil | AF1: Brunei Darussalam | AG1: Bulgaria | AH1: Burkina Faso | AI1: Burundi | AJ1: Cambodia | AK1: Cameroon | AL1: Canada | AM1: Cape Verde | AN1: Cayman Islands | AO1: Central African Republic | AP1: Chad | AQ1: Chile | AR1: China | AS1: Colombia | AT1: Comoros | AU1: Congo, Dem. Rep. | AV1: Congo, Rep. | AW1: Cook Islands | AX1: Costa Rica | AY1: Cote Ivoire | AZ1: Croatia | BA1: Cuba | BB1: Cyprus | BC1: Czech Republic | BD1: Denmark | BE1: Djibouti | BF1: Dominica | BG1: Dominican Republic | BH1: Ecuador | BI1: Egypt, Arab Rep. | BJ1: El Salvador | BK1: Equatorial Guinea | BL1: Eritrea | BM1: Estonia | BN1: eSwatini | BO1: Ethiopia | BP1: Fiji | BQ1: Finland | BR1: France | BS1: French Guiana | BT1: Gabon | BU1: Gambia, The | BV1: Georgia | BW1: Germany | BX1: Ghana | BY1: Greece | BZ1: Greenland | CA1: Grenada | CB1: Guam | CC1: Guatemala | CD1: Guinea | CE1: Guinea-Bissau | CF1: Guyana | CG1: Haiti | CH1: Honduras | CI1: Hong Kong SAR, China | CJ1: Hungary | CK1: Iceland | CL1: India | CM1: Indonesia | CN1: Iran, Islamic Rep. | CO1: Iraq | CP1: Ireland | CQ1: Israel | CR1: Italy | CS1: Jamaica | CT1: Japan | CU1: Jersey, Channel Islands | CV1: Jordan | CW1: Kazakhstan | CX1: Kenya | CY1: Kiribati | CZ1: Korea, Dem. Rep. | DA1: Korea, Rep. | DB1: Kosovo | DC1: Kuwait | DD1: Kyrgyz Republic | DE1: Lao PDR | DF1: Latvia | DG1: Lebanon | DH1: Lesotho | DI1: Liberia | DJ1: Libya | DK1: Liechtenstein | DL1: Lithuania | DM1: Luxembourg | DN1: Macao SAR, China | DO1: Madagascar | DP1: Malawi | DQ1: Malaysia | DR1: Maldives | DS1: Mali | DT1: Malta | DU1: Marshall Islands | DV1: Martinique | DW1: Mauritania | DX1: Mauritius | DY1: Mexico | DZ1: Micronesia, Fed. Sts. | EA1: Moldova | EB1: Monaco | EC1: Mongolia | ED1: Montenegro | EE1: Morocco | EF1: Mozambique | EG1: Myanmar | EH1: Namibia | EI1: Nauru | EJ1: Nepal | EK1: Netherlands | EL1: Netherlands Antilles (former) | EM1: New Zealand | EN1: Nicaragua | EO1: Niger | EP1: Nigeria | EQ1: Niue | ER1: North Macedonia | ES1: Norway | ET1: Oman | EU1: Pakistan | EV1: Palau | EW1: Panama | EX1: Papua New Guinea | EY1: Paraguay | EZ1: Peru | FA1: Philippines | FB1: Poland | FC1: Portugal | FD1: Puerto Rico | FE1: Qatar | FF1: Réunion | FG1: Romania | FH1: Russian Federation | FI1: Rwanda | FJ1: Samoa | FK1: San Marino | FL1: São Tomé and Principe | FM1: Saudi Arabia | FN1: Senegal | FO1: Serbia | FP1: Seychelles | FQ1: Sierra Leone | FR1: Singapore | FS1: Slovak Republic | FT1: Slovenia | FU1: Solomon Islands | FV1: Somalia | FW1: South Africa | FX1: South Sudan | FY1: Spain | FZ1: Sri Lanka | GA1: St. Kitts and Nevis | GB1: St. Lucia | GC1: St. Vincent and the Grenadines | GD1: Sudan | GE1: Suriname | GF1: Sweden | GG1: Switzerland | GH1: Syrian Arab Republic | GI1: Taiwan, China | GJ1: Tajikistan | GK1: Tanzania | GL1: Thailand | GM1: Timor-Leste | GN1: Togo | GO1: Tonga | GP1: Trinidad and Tobago | GQ1: Tunisia | GR1: Turkey | GS1: Turkmenistan | GT1: Tuvalu | GU1: Uganda | GV1: Ukraine | GW1: United Arab Emirates | GX1: United Kingdom | GY1: United States | GZ1: Uruguay | HA1: Uzbekistan | HB1: Vanuatu | HC1: Venezuela, RB | HD1: Vietnam | HE1: Virgin Islands (U.S.) | HF1: West Bank and Gaza | HG1: Yemen, Rep. | HH1: Zambia | HI1: Zimbabwe | HK1: World | HL1: State of Palestine | HM1: Sub-Saharan Africa | HN1: Northern Africa and Western Asia | HO1: Turks and Caicos Islands | HP1: Eastern and South-Eastern Asia | HQ1: Europe and Northern America | HR1: Central and Southern Asia | HS1: Latin America and the Caribbean
A2: 1 | B2: WGI - Political stability & absence of Violence/terrorism (2020) | C2: [0-100] from weak to strong governance performance | D2: 0.47169811 | E2: 49.528301 | F2: 17.452829 | G2: 92.452827 | H2: 99.056602 | I2: 26.886793 | J2: 98.584908 | K2: 80.188683 | L2: 48.584908 | M2: 25.943396 | N2: 96.226418 | O2: 73.113205 | P2: 74.528305 | Q2: 21.698112 | R2: 73.584908 | S2: 25.471699 | T2: 16.037735 | U2: 91.037735 | V2: 21.226416 | W2: 64.622643 | X2: 62.264153 | Y2: 29.716982 | Z2: 83.962265 | AA2: 84.905663 | AB2: 28.773584 | AC2: 27.830189 | AD2: 89.15094 | AE2: 32.07547 | AF2: 90.56604 | AG2: 60.849056 | AH2: 8.4905663 | AI2: 10.377358 | AJ2: 41.037735 | AK2: 8.9622641 | AL2: 90.094337 | AM2: 77.35849 | AN2: 98.113205 | AO2: 2.8301888 | AP2: 10.849056 | AQ2: 49.056602 | AR2: 37.735847 | AS2: 22.169811 | AT2: 37.264153 | AU2: 7.0754719 | AV2: 16.509434 | AW2: 89.622643 | AX2: 71.698112 | AY2: 15.094339 | AZ2: 65.56604 | BA2: 65.094337 | BB2: 56.132076 | BC2: 79.245285 | BD2: 81.603775 | BE2: 36.320755 | BF2: 95.28302 | BG2: 52.35849 | BH2: 34.433964 | BI2: 11.320755 | BJ2: 45.754719 | BK2: 41.981133 | BL2: 14.622642 | BM2: 70.28302 | BN2: 43.396225 | BO2: 6.6037736 | BP2: 71.226418 | BQ2: 82.07547 | BR2: 56.603775 | BS2: 57.07547 | BT2: 44.339622 | BU2: 55.188679 | BV2: 30.660378 | BW2: 68.867928 | BX2: 51.886791 | BY2: 51.415092 | BZ2: 100 | CA2: 86.79245 | CB2: 81.132072 | CC2: 31.132076 | CD2: 23.584906 | CE2: 25 | CF2: 42.452831 | CG2: 13.679245 | CH2: 26.415094 | CI2: 50 | CJ2: 75 | CK2: 96.698112 | CL2: 16.981133 | CM2: 28.301888 | CN2: 7.5471697 | CO2: 1.4150944 | CP2: 83.018867 | CQ2: 18.396227 | CR2: 59.905659 | CS2: 55.660378 | CT2: 87.264153 | CU2: 94.811317 | CV2: 35.849056 | CW2: 39.150944 | CX2: 14.150944 | CY2: 88.679245 | CZ2: 33.490566 | DA2: 62.735847 | DB2: 36.792454 | DC2: 54.71698 | DD2: 31.603773 | DE2: 69.339622 | DF2: 60.377357 | DG2: 8.0188675 | DH2: 34.905659 | DI2: 33.962265 | DJ2: 2.3584905 | DK2: 99.528305 | DL2: 75.471695 | DM2: 93.867928 | DN2: 91.509438 | DO2: 29.245283 | DP2: 40.094341 | DQ2: 50.943398 | DR2: 58.490566 | DS2: 3.7735848 | DT2: 82.547173 | DU2: 64.15094 | DV2: 66.509438 | DW2: 19.811321 | DX2: 78.301888 | DY2: 17.924528 | DZ2: 88.20755 | EA2: 32.547169 | EB2: 76.886795 | EC2: 72.64151 | ED2: 47.169811 | EE2: 35.377357 | EF2: 12.735849 | EG2: 9.9056606 | EH2: 67.92453 | EI2: 80.660378 | EJ2: 41.509434 | EK2: 74.056602 | EL2: NV | EM2: 97.64151 | EN2: 23.113207 | EO2: 6.1320753 | EP2: 4.7169809 | EQ2: 95.754715 | ER2: 50.471699 | ES2: 94.339622 | ET2: 57.547169 | EU2: 5.1886792 | EV2: 77.830185 | EW2: 54.245281 | EX2: 20.283018 | EY2: 47.64151 | EZ2: 38.679245 | FA2: 18.867924 | FB2: 63.207546 | FC2: 85.84906 | FD2: 59.433964 | FE2: 68.396225 | FF2: 53.773586 | FG2: 63.679245 | FH2: 20.754717 | FI2: 48.113209 | FJ2: 91.981133 | FK2: 76.886795 | FL2: 61.792454 | FM2: 22.64151 | FN2: 46.698112 | FO2: 43.867924 | FP2: 70.754715 | FQ2: 39.622643 | FR2: 97.169815 | FS2: 67.452827 | FT2: 69.811317 | FU2: 66.981133 | FV2: 1.8867924 | FW2: 40.566036 | FX2: 3.3018868 | FY2: 58.018867 | FZ2: 45.28302 | GA2: 80.188683 | GB2: 75.943398 | GC2: 86.79245 | GD2: 5.6603775 | GE2: 58.962265 | GF2: 85.377357 | GG2: 93.396225 | GH2: 0 | GI2: 72.169815 | GJ2: 27.35849 | GK2: 33.018867 | GL2: 24.528301 | GM2: 52.830189 | GN2: 15.566038 | GO2: 84.43396 | GP2: 53.301888 | GQ2: 24.056604 | GR2: 11.792453 | GS2: 38.207546 | GT2: 92.92453 | GU2: 19.339622 | GV2: 12.264151 | GW2: 66.037735 | GX2: 61.320755 | GY2: 46.226414 | GZ2: 87.735847 | HA2: 30.188679 | HB2: 78.773582 | HC2: 9.4339619 | HD2: 44.811321 | HE2: 83.962265 | HF2: 4.2452831 | HG2: 0.94339621 | HH2: 42.92453 | HI2: 13.207547
A3: 2 | B3: WGI - Government effectiveness (2020) | C3: [0-100] from weak to strong governance performance | D3: 5.2884617 | E3: 48.076923 | F3: 33.653847 | G3: 74.519234 | H3: 96.634613 | I3: 11.057693 | J3: 80.28846 | K3: 47.115383 | L3: 43.26923 | M3: 48.557693 | N3: 85.096153 | O3: 93.75 | P3: 94.71154 | Q3: 44.71154 | R3: 69.71154 | S3: 68.269234 | T3: 20.192308 | U3: 70.192307 | V3: 23.076923 | W3: 83.653847 | X3: 27.884615 | Y3: 41.346153 | Z3: 91.82692 | AA3: 65.865387 | AB3: 30.76923 | AC3: 15.384615 | AD3: 62.5 | AE3: 36.53846 | AF3: 90.384613 | AG3: 50.48077 | AH3: 26.923077 | AI3: 10.096154 | AJ3: 37.98077 | AK3: 18.26923 | AL3: 94.230766 | AM3: 62.01923 | AN3: 85.096153 | AO3: 3.8461537 | AP3: 7.2115383 | AQ3: 80.769234 | AR3: 72.596153 | AS3: 55.28846 | AT3: 4.8076925 | AU3: 3.3653846 | AV3: 7.6923075 | AW3: NV | AX3: 64.903847 | AY3: 34.615383 | AZ3: 68.75 | BA3: 45.192307 | BB3: 77.403847 | BC3: 78.846153 | BD3: 98.07692 | BE3: 25.961538 | BF3: 44.23077 | BG3: 40.384617 | BH3: 37.01923 | BI3: 32.21154 | BJ3: 38.46154 | BK3: 6.25 | BL3: 4.3269229 | BM3: 88.46154 | BN3: 21.634615 | BO3: 31.25 | BP3: 63.942307 | BQ3: 99.03846 | BR3: 86.53846 | BS3: 87.5 | BT3: 17.307692 | BU3: 26.442308 | BV3: 75.480766 | BW3: 88.942307 | BX3: 46.634617 | BY3: 69.230766 | BZ3: 75.96154 | CA3: 51.442307 | CB3: 74.519234 | CC3: 25.48077 | CD3: 17.788462 | CE3: 8.1730766 | CF3: 37.5 | CG3: 1.4423077 | CH3: 29.807692 | CI3: 95.192307 | CJ3: 72.115387 | CK3: 91.346153 | CL3: 66.82692 | CM3: 65.384613 | CN3: 14.903846 | CO3: 9.6153851 | CP3: 90.865387 | CQ3: 83.17308 | CR3: 67.307693 | CS3: 67.78846 | CT3: 93.269234 | CU3: 86.057693 | CV3: 57.21154 | CW3: 60.096153 | CX3: 39.423077 | CY3: 47.596153 | CZ3: 6.7307692 | DA3: 89.903847 | DB3: 40.865383 | DC3: 45.673077 | DD3: 32.692307 | DE3: 22.596153 | DF3: 76.92308 | DG3: 11.538462 | DH3: 16.826923 | DI3: 8.6538458 | DJ3: 1.9230769 | DK3: 96.153847 | DL3: 82.692307 | DM3: 97.115387 | DN3: 85.096153 | DO3: 13.942307 | DP3: 19.711538 | DQ3: 82.21154 | DR3: 49.03846 | DS3: 12.5 | DT3: 81.730766 | DU3: 9.1346149 | DV3: 80.28846 | DW3: 21.153847 | DX3: 76.442307 | DY3: 46.153847 | DZ3: 49.51923 | EA3: 36.057693 | EB3: NV | EC3: 39.903847 | ED3: 53.365383 | EE3: 52.884617 | EF3: 23.557692 | EG3: 14.423077 | EH3: 55.76923 | EI3: 50 | EJ3: 15.865385 | EK3: 97.596153 | EL3: NV | EM3: 92.78846 | EN3: 24.038462 | EO3: 29.326923 | EP3: 12.980769 | EQ3: NV | ER3: 57.692307 | ES3: 98.557693 | ET3: 58.173077 | EU3: 31.73077 | EV3: 51.923077 | EW3: 56.73077 | EX3: 18.75 | EY3: 35.096153 | EZ3: 42.307693 | FA3: 56.25 | FB3: 66.346153 | FC3: 81.25 | FD3: 41.826923 | FE3: 78.365387 | FF3: 80.28846 | FG3: 42.78846 | FH3: 54.807693 | FI3: 64.42308 | FJ3: 71.153847 | FK3: NV | FL3: 28.365385 | FM3: 58.653847 | FN3: 53.846153 | FO3: 54.326923 | FP3: 70.67308 | FQ3: 13.461538 | FR3: 100 | FS3: 71.634613 | FT3: 85.57692 | FU3: 16.346153 | FV3: 0.96153843 | FW3: 62.98077 | FX3: 0 | FY3: 77.884613 | FZ3: 50.96154 | GA3: 74.519234 | GB3: 59.615383 | GC3: 59.615383 | GD3: 5.7692308 | GE3: 33.173077 | GF3: 95.67308 | GG3: 99.519234 | GH3: 2.8846154 | GI3: 92.307693 | GJ3: 24.51923 | GK3: 20.673077 | GL3: 63.46154 | GM3: 19.23077 | GN3: 25 | GO3: 60.576923 | GP3: 61.057693 | GQ3: 43.75 | GR3: 52.403847 | GS3: 12.019231 | GT3: 27.403847 | GU3: 30.288462 | GV3: 38.942307 | GW3: 87.980766 | GX3: 89.42308 | GY3: 87.019234 | GZ3: 75 | HA3: 34.134617 | HB3: 35.576923 | HC3: 2.4038463 | HD3: 61.53846 | HE3: 74.519234 | HF3: 28.846153 | HG3: 0.48076922 | HH3: 22.115385 | HI3: 10.576923
A4: 3 | B4: WGI - Regulatory Quality (2020) | C4: [0-100] from weak to strong governance performance | D4: 8.1730766 | E4: 60.576923 | F4: 9.1346149 | G4: 71.634613 | H4: 88.46154 | I4: 15.865385 | J4: 79.807693 | K4: 69.230766 | L4: 31.73077 | M4: 61.057693 | N4: 77.884613 | O4: 98.07692 | P4: 90.865387 | Q4: 39.903847 | R4: 52.884617 | S4: 73.07692 | T4: 16.346153 | U4: 67.307693 | V4: 27.884615 | W4: 88.942307 | X4: 33.653847 | Y4: 38.942307 | Z4: 79.807693 | AA4: 40.384617 | AB4: 12.019231 | AC4: 42.307693 | AD4: 65.384613 | AE4: 46.153847 | AF4: 76.92308 | AG4: 69.71154 | AH4: 37.5 | AI4: 12.5 | AJ4: 29.807692 | AK4: 19.711538 | AL4: 94.230766 | AM4: 50.48077 | AN4: 82.21154 | AO4: 5.7692308 | AP4: 11.057693 | AQ4: 81.730766 | AR4: 50 | AS4: 63.46154 | AT4: 10.576923 | AU4: 5.2884617 | AV4: 7.2115383 | AW4: NV | AX4: 66.346153 | AY4: 41.826923 | AZ4: 65.865387 | BA4: 6.25 | BB4: 80.769234 | BC4: 86.53846 | BD4: 97.596153 | BE4: 20.192308 | BF4: 59.134617 | BG4: 51.442307 | BH4: 17.307692 | BI4: 25.48077 | BJ4: 50.96154 | BK4: 4.8076925 | BL4: 0.48076922 | BM4: 92.78846 | BN4: 32.692307 | BO4: 14.423077 | BP4: 45.192307 | BQ4: 99.03846 | BR4: 85.57692 | BS4: 84.615387 | BT4: 17.788462 | BU4: 25.961538 | BV4: 83.653847 | BW4: 93.269234 | BX4: 52.403847 | BY4: 72.115387 | BZ4: 90.384613 | CA4: 45.673077 | CB4: 71.634613 | CC4: 44.71154 | CD4: 19.23077 | CE4: 9.6153851 | CF4: 33.173077 | CG4: 10.096154 | CH4: 34.134617 | CI4: 97.115387 | CJ4: 67.78846 | CK4: 91.346153 | CL4: 47.596153 | CM4: 55.28846 | CN4: 6.7307692 | CO4: 8.6538458 | CP4: 91.82692 | CQ4: 87.019234 | CR4: 68.269234 | CS4: 56.25 | CT4: 89.42308 | CU4: 80.28846 | CV4: 60.096153 | CW4: 57.692307 | CX4: 35.576923 | CY4: 31.25 | CZ4: 0 | DA4: 81.25 | DB4: 41.346153 | DC4: 62.5 | DD4: 37.98077 | DE4: 21.153847 | DF4: 85.096153 | DG4: 28.846153 | DH4: 32.21154 | DI4: 13.461538 | DJ4: 0.96153843 | DK4: 94.71154 | DL4: 83.17308 | DM4: 98.557693 | DN4: 96.153847 | DO4: 22.596153 | DP4: 23.557692 | DQ4: 74.03846 | DR4: 35.096153 | DS4: 30.288462 | DT4: 86.057693 | DU4: 11.538462 | DV4: 79.807693 | DW4: 20.673077 | DX4: 84.134613 | DY4: 54.807693 | DZ4: 14.903846 | EA4: 53.846153 | EB4: NV | EC4: 49.51923 | ED4: 64.903847 | EE4: 48.557693 | EF4: 25 | EG4: 28.365385 | EH4: 49.03846 | EI4: 56.73077 | EJ4: 24.51923 | EK4: 96.634613 | EL4: NV | EM4: 99.519234 | EN4: 26.923077 | EO4: 23.076923 | EP4: 13.942307 | EQ4: NV | ER4: 68.75 | ES4: 95.67308 | ET4: 66.82692 | EU4: 24.038462 | EV4: 54.326923 | EW4: 63.942307 | EX4: 26.442308 | EY4: 43.26923 | EZ4: 70.192307 | FA4: 53.365383 | FB4: 76.442307 | FC4: 75.480766 | FD4: 75 | FE4: 75.96154 | FF4: 79.807693 | FG4: 64.42308 | FH4: 36.057693 | FI4: 58.173077 | FJ4: 43.75 | FK4: NV | FL4: 16.826923 | FM4: 61.53846 | FN4: 42.78846 | FO4: 57.21154 | FP4: 48.076923 | FQ4: 18.26923 | FR4: 100 | FS4: 74.519234 | FT4: 77.403847 | FU4: 18.75 | FV4: 2.4038463 | FW4: 59.615383 | FX4: 1.9230769 | FY4: 73.557693 | FZ4: 44.23077 | GA4: 70.67308 | GB4: 62.98077 | GC4: 62.01923 | GD4: 4.3269229 | GE4: 22.115385 | GF4: 95.192307 | GG4: 93.75 | GH4: 3.3653846 | GI4: 89.903847 | GJ4: 12.980769 | GK4: 27.403847 | GL4: 58.653847 | GM4: 21.634615 | GN4: 30.76923 | GO4: 38.46154 | GP4: 47.115383 | GQ4: 39.423077 | GR4: 51.923077 | GS4: 2.8846154 | GT4: 34.615383 | GU4: 36.53846 | GV4: 40.865383 | GW4: 82.692307 | GX4: 92.307693 | GY4: 87.5 | GZ4: 72.596153 | HA4: 15.384615 | HB4: 37.01923 | HC4: 1.4423077 | HD4: 46.634617 | HE4: 88.46154 | HF4: 55.76923 | HG4: 3.8461537 | HH4: 29.326923 | HI4: 7.6923075
A5: 4 | B5: WGI - Rule of law (2020) | C5: [0-100] from weak to strong governance performance | D5: 2.4038463 | E5: 40.865383 | F5: 21.634615 | G5: 86.057693 | H5: 93.269234 | I5: 16.826923 | J5: 64.903847 | K5: 66.346153 | L5: 34.615383 | M5: 51.923077 | N5: 87.5 | O5: 92.307693 | P5: 97.115387 | Q5: 25.961538 | R5: 55.76923 | S5: 67.307693 | T5: 30.76923 | U5: 63.942307 | V5: 16.346153 | W5: 88.942307 | X5: 23.076923 | Y5: 24.51923 | Z5: 75.480766 | AA5: 71.153847 | AB5: 12.019231 | AC5: 43.26923 | AD5: 65.865387 | AE5: 48.076923 | AF5: 80.28846 | AG5: 51.442307 | AH5: 36.53846 | AI5: 6.7307692 | AJ5: 17.788462 | AK5: 12.5 | AL5: 92.78846 | AM5: 66.82692 | AN5: 76.442307 | AO5: 4.3269229 | AP5: 7.2115383 | AQ5: 84.134613 | AR5: 52.884617 | AS5: 33.653847 | AT5: 10.096154 | AU5: 2.8846154 | AV5: 11.538462 | AW5: NV | AX5: 70.192307 | AY5: 29.807692 | AZ5: 62.01923 | BA5: 43.75 | BB5: 70.67308 | BC5: 83.17308 | BD5: 98.07692 | BE5: 15.865385 | BF5: 75.96154 | BG5: 45.192307 | BH5: 32.21154 | BI5: 39.903847 | BJ5: 22.115385 | BK5: 8.6538458 | BL5: 5.2884617 | BM5: 89.42308 | BN5: 33.173077 | BO5: 37.98077 | BP5: 57.21154 | BQ5: 100 | BR5: 87.980766 | BS5: 86.53846 | BT5: 27.884615 | BU5: 39.423077 | BV5: 61.057693 | BW5: 91.346153 | BX5: 53.846153 | BY5: 62.98077 | BZ5: 94.230766 | CA5: 61.53846 | CB5: 86.057693 | CC5: 13.942307 | CD5: 8.1730766 | CE5: 6.25 | CF5: 36.057693 | CG5: 14.423077 | CH5: 17.307692 | CI5: 91.82692 | CJ5: 67.78846 | CK5: 96.153847 | CL5: 54.326923 | CM5: 41.826923 | CN5: 20.192308 | CO5: 3.8461537 | CP5: 90.384613 | CQ5: 82.21154 | CR5: 60.576923 | CS5: 46.153847 | CT5: 90.865387 | CU5: 94.230766 | CV5: 59.134617 | CW5: 38.46154 | CX5: 31.25 | CY5: 77.884613 | CZ5: 4.8076925 | DA5: 84.615387 | DB5: 38.942307 | DC5: 63.46154 | DD5: 18.26923 | DE5: 20.673077 | DF5: 81.25 | DG5: 19.23077 | DH5: 35.576923 | DI5: 14.903846 | DJ5: 1.4423077 | DK5: 95.192307 | DL5: 81.730766 | DM5: 95.67308 | DN5: 76.92308 | DO5: 19.711538 | DP5: 44.71154 | DQ5: 73.07692 | DR5: 42.307693 | DS5: 18.75 | DT5: 78.846153 | DU5: 54.807693 | DV5: 75.480766 | DW5: 30.288462 | DX5: 79.807693 | DY5: 26.923077 | DZ5: 56.25 | EA5: 37.5 | EB5: NV | EC5: 45.673077 | ED5: 55.28846 | EE5: 50.96154 | EF5: 15.384615 | EG5: 10.576923 | EH5: 62.5 | EI5: 24.038462 | EJ5: 34.134617 | EK5: 94.71154 | EL5: NV | EM5: 99.03846 | EN5: 9.1346149 | EO5: 32.692307 | EP5: 21.153847 | EQ5: NV | ER5: 52.403847 | ES5: 99.519234 | ET5: 71.634613 | EU5: 25.48077 | EV5: 47.115383 | EW5: 46.634617 | EX5: 25 | EY5: 37.01923 | EZ5: 41.346153 | FA5: 31.73077 | FB5: 69.230766 | FC5: 85.096153 | FD5: 72.596153 | FE5: 82.692307 | FF5: 75.480766 | FG5: 64.42308 | FH5: 22.596153 | FI5: 56.73077 | FJ5: 77.884613 | FK5: NV | FL5: 26.442308 | FM5: 60.096153 | FN5: 44.23077 | FO5: 47.596153 | FP5: 58.653847 | FQ5: 23.557692 | FR5: 98.557693 | FS5: 73.557693 | FT5: 83.653847 | FU5: 50.48077 | FV5: 0.48076922 | FW5: 49.51923 | FX5: 1.9230769 | FY5: 78.365387 | FZ5: 53.365383 | GA5: 68.75 | GB5: 72.115387 | GC5: 69.71154 | GD5: 12.980769 | GE5: 50 | GF5: 96.634613 | GG5: 97.596153 | GH5: 0.96153843 | GI5: 87.019234 | GJ5: 9.6153851 | GK5: 29.326923 | GL5: 57.692307 | GM5: 11.057693 | GN5: 28.365385 | GO5: 65.384613 | GP5: 49.03846 | GQ5: 58.173077 | GR5: 40.384617 | GS5: 5.7692308 | GT5: 68.269234 | GU5: 42.78846 | GV5: 27.403847 | GW5: 79.32692 | GX5: 89.903847 | GY5: 88.46154 | GZ5: 74.03846 | HA5: 13.461538 | HB5: 59.615383 | HC5: 0 | HD5: 48.557693 | HE5: 80.769234 | HF5: 35.096153 | HG5: 3.3653846 | HH5: 28.846153 | HI5: 7.6923075
A6: 5 | B6: WGI - Control of corruption (2020) | C6: [0-100] from weak to strong governance performance | D6: 5.2884617 | E6: 31.73077 | F6: 28.365385 | G6: 88.942307 | H6: 88.942307 | I6: 18.26923 | J6: 74.519234 | K6: 63.46154 | L6: 50 | M6: 57.692307 | N6: 86.53846 | O6: 93.75 | P6: 90.865387 | Q6: 16.346153 | R6: 83.653847 | S6: 53.365383 | T6: 16.826923 | U6: 85.57692 | V6: 48.076923 | W6: 89.903847 | X6: 47.115383 | Y6: 54.326923 | Z6: 88.942307 | AA6: 92.78846 | AB6: 24.51923 | AC6: 28.846153 | AD6: 72.115387 | AE6: 43.75 | AF6: 87.019234 | AG6: 46.153847 | AH6: 51.442307 | AI6: 4.8076925 | AJ6: 11.057693 | AK6: 12.5 | AL6: 91.82692 | AM6: 80.28846 | AN6: 67.307693 | AO6: 9.6153851 | AP6: 5.7692308 | AQ6: 84.134613 | AR6: 52.884617 | AS6: 47.596153 | AT6: 11.538462 | AU6: 3.3653846 | AV6: 6.25 | AW6: NV | AX6: 77.403847 | AY6: 32.692307 | AZ6: 61.53846 | BA6: 49.51923 | BB6: 65.865387 | BC6: 71.153847 | BD6: 100 | BE6: 25 | BF6: 70.192307 | BG6: 26.923077 | BH6: 32.21154 | BI6: 22.596153 | BJ6: 29.326923 | BK6: 0.96153843 | BL6: 7.2115383 | BM6: 92.307693 | BN6: 36.057693 | BO6: 40.865383 | BP6: 72.596153 | BQ6: 99.519234 | BR6: 84.615387 | BS6: 81.25 | BT6: 18.75 | BU6: 43.26923 | BV6: 71.634613 | BW6: 95.192307 | BX6: 50.48077 | BY6: 58.653847 | BZ6: 82.21154 | CA6: 64.42308 | CB6: 88.942307 | CC6: 13.942307 | CD6: 17.788462 | CE6: 8.6538458 | CF6: 48.557693 | CG6: 8.1730766 | CH6: 20.673077 | CI6: 93.269234 | CJ6: 60.576923 | CK6: 94.71154 | CL6: 46.634617 | CM6: 38.942307 | CN6: 14.423077 | CO6: 9.1346149 | CP6: 91.346153 | CQ6: 70.67308 | CR6: 69.230766 | CS6: 55.76923 | CT6: 90.384613 | CU6: 82.21154 | CV6: 59.615383 | CW6: 39.903847 | CX6: 21.153847 | CY6: 66.82692 | CZ6: 1.4423077 | DA6: 75.96154 | DB6: 36.53846 | DC6: 53.846153 | DD6: 12.980769 | DE6: 14.903846 | DF6: 75.480766 | DG6: 12.019231 | DH6: 51.923077 | DI6: 19.711538 | DJ6: 2.8846154 | DK6: 95.67308 | DL6: 79.807693 | DM6: 96.634613 | DN6: 78.365387 | DO6: 17.307692 | DP6: 39.423077 | DQ6: 62.5 | DR6: 44.71154 | DS6: 24.038462 | DT6: 64.903847 | DU6: 55.28846 | DV6: 74.519234 | DW6: 23.076923 | DX6: 67.78846 | DY6: 21.634615 | DZ6: 80.769234 | EA6: 30.288462 | EB6: NV | EC6: 34.615383 | ED6: 56.25 | EE6: 42.78846 | EF6: 25.961538 | EG6: 27.884615 | EH6: 63.942307 | EI6: 35.576923 | EJ6: 29.807692 | EK6: 96.153847 | EL6: NV | EM6: 98.557693 | EN6: 10.576923 | EO6: 27.403847 | EP6: 13.461538 | EQ6: NV | ER6: 37.98077 | ES6: 97.596153 | ET6: 62.01923 | EU6: 22.115385 | EV6: 35.576923 | EW6: 33.173077 | EX6: 30.76923 | EY6: 20.192308 | EZ6: 33.653847 | FA6: 34.134617 | FB6: 73.07692 | FC6: 76.92308 | FD6: 56.73077 | FE6: 77.884613 | FF6: 74.519234 | FG6: 54.807693 | FH6: 19.23077 | FI6: 69.71154 | FJ6: 75 | FK6: NV | FL6: 61.057693 | FM6: 62.98077 | FN6: 57.21154 | FO6: 37.5 | FP6: 86.057693 | FQ6: 41.346153 | FR6: 99.03846 | FS6: 66.346153 | FT6: 79.32692 | FU6: 60.096153 | FV6: 2.4038463 | FW6: 59.134617 | FX6: 0 | FY6: 76.442307 | FZ6: 45.673077 | GA6: 65.384613 | GB6: 68.75 | GC6: 78.846153 | GD6: 6.7307692 | GE6: 37.01923 | GF6: 98.07692 | GG6: 97.115387 | GH6: 0.48076922 | GI6: 85.096153 | GJ6: 7.6923075 | GK6: 40.384617 | GL6: 38.46154 | GM6: 45.192307 | GN6: 25.48077 | GO6: 41.826923 | GP6: 50.96154 | GQ6: 52.403847 | GR6: 44.23077 | GS6: 4.3269229 | GT6: 68.269234 | GU6: 15.384615 | GV6: 23.557692 | GW6: 83.17308 | GX6: 94.230766 | GY6: 82.692307 | GZ6: 89.42308 | HA6: 15.865385 | HB6: 49.03846 | HC6: 3.8461537 | HD6: 42.307693 | HE6: 58.173077 | HF6: 31.25 | HG6: 1.9230769 | HH6: 26.442308 | HI6: 10.096154
A7: 6 | B7: WGI - Voice and Accountability (2020) | C7: [0-100] from weak to strong governance performance | D7: 19.323671 | E7: 51.207729 | F7: 18.357489 | G7: 81.642509 | H7: 83.574883 | I7: 25.603865 | J7: NV | K7: 71.014496 | L7: 65.700485 | M7: 49.275364 | N7: 92.753624 | O7: 93.236717 | P7: 95.652176 | Q7: 5.7971015 | R7: 77.294685 | S7: 9.1787443 | T7: 26.570047 | U7: 86.473427 | V7: 8.695652 | W7: 90.821259 | X7: 62.31884 | Y7: 42.512077 | Z7: NV | AA7: 53.623188 | AB7: 43.47826 | AC7: 36.714977 | AD7: 60.869564 | AE7: 56.52174 | AF7: 22.222221 | AG7: 56.038647 | AH7: 39.130436 | AI7: 6.2801933 | AJ7: 12.560387 | AK7: 15.458938 | AL7: 96.135269 | AM7: 76.328499 | AN7: 61.835751 | AO7: 14.975845 | AP7: 10.628019 | AQ7: 81.159424 | AR7: 4.8309178 | AS7: 52.657005 | AT7: 27.053141 | AU7: 14.492754 | AV7: 13.52657 | AW7: NV | AX7: 87.439613 | AY7: 33.816425 | AZ7: 64.251205 | BA7: 11.111111 | BB7: 75.36232 | BC7: 79.227051 | BD7: 97.584541 | BE7: 10.144928 | BF7: 74.396133 | BG7: 55.072464 | BH7: 46.376812 | BI7: 7.7294688 | BJ7: 47.826088 | BK7: 1.9323672 | BL7: 0.4830918 | BM7: 88.4058 | BN7: 13.043478 | BO7: 20.289856 | BP7: 47.342995 | BQ7: 99.516907 | BR7: 82.608696 | BS7: 92.753624 | BT7: 21.256039 | BU7: 38.647343 | BV7: 49.758453 | BW7: 94.202896 | BX7: 64.734299 | BY7: 78.743965 | BZ7: 92.753624 | CA7: 69.565216 | CB7: 77.777779 | CC7: 35.265701 | CD7: 22.705315 | CE7: 34.299519 | CF7: 54.106281 | CG7: 24.154589 | CH7: 30.917875 | CI7: 48.309177 | CJ7: 58.937199 | CK7: 94.685989 | CL7: 53.140095 | CM7: 52.173912 | CN7: 8.2125607 | CO7: 20.772947 | CP7: 95.169083 | CQ7: 68.599037 | CR7: 82.125603 | CS7: 67.149757 | CT7: 79.710144 | CU7: 92.753624 | CV7: 27.536232 | CW7: 15.942029 | CX7: 35.748791 | CY7: 85.990341 | CZ7: 0 | DA7: 71.980675 | DB7: 39.613525 | DC7: 29.951691 | DD7: 31.884058 | DE7: 3.3816426 | DF7: 73.429955 | DG7: 32.850243 | DH7: 45.893719 | DI7: 42.995171 | DJ7: 11.594203 | DK7: 90.338165 | DL7: 80.193237 | DM7: 96.618355 | DN7: 37.198067 | DO7: 37.68116 | DP7: 45.410629 | DQ7: 40.096619 | DR7: 36.231884 | DS7: 28.502415 | DT7: 84.541061 | DU7: 86.95652 | DV7: NV | DW7: 24.637682 | DX7: 70.531403 | DY7: 44.927536 | DZ7: 85.507248 | EA7: 44.444443 | EB7: 69.082123 | EC7: 58.454105 | ED7: 48.792271 | EE7: 30.434782 | EF7: 31.400967 | EG7: 21.73913 | EH7: 63.285023 | EI7: 59.903381 | EJ7: 42.028984 | EK7: 98.067635 | EL7: NV | EM7: 99.033813 | EN7: 18.84058 | EO7: 33.333332 | EP7: 32.367149 | EQ7: 87.922707 | ER7: 50.241547 | ES7: 100 | ET7: 16.908213 | EU7: 23.188406 | EV7: 83.091789 | EW7: 63.768116 | EX7: 46.859905 | EY7: 50.724636 | EZ7: 54.589371 | FA7: 41.062801 | FB7: 66.666664 | FC7: 89.855072 | FD7: 61.835751 | FE7: 14.009662 | FF7: NV | FG7: 65.217392 | FH7: 19.806763 | FI7: 17.874395 | FJ7: 71.497581 | FK7: 85.024155 | FL7: 57.487923 | FM7: 5.3140097 | FN7: 55.555557 | FO7: 40.579712 | FP7: 60.386475 | FQ7: 41.545895 | FR7: 38.164249 | FS7: 74.879227 | FT7: 78.260872 | FU7: 62.801933 | FV7: 2.8985507 | FW7: 70.048309 | FX7: 2.4154589 | FY7: 80.676331 | FZ7: 43.961353 | GA7: 72.463768 | GB7: 73.91304 | GC7: 75.845413 | GD7: 9.6618357 | GE7: 59.420288 | GF7: 97.101448 | GG7: 98.550728 | GH7: 1.4492754 | GI7: 84.057968 | GJ7: 3.8647344 | GK7: 29.468599 | GL7: 26.086956 | GM7: 57.971016 | GN7: 28.019323 | GO7: 67.632851 | GP7: 68.115944 | GQ7: 57.004829 | GR7: 23.671497 | GS7: 0.9661836 | GT7: 88.888885 | GU7: 28.985508 | GV7: 51.690823 | GW7: 16.425121 | GX7: 89.371979 | GY7: 72.946861 | GZ7: 93.71981 | HA7: 6.7632852 | HB7: 66.183578 | HC7: 7.246377 | HD7: 12.077294 | HE7: NV | HF7: 25.120773 | HG7: 4.347826 | HH7: 34.782608 | HI7: 17.391304
A8: 7 | B8: Fragile State Index (2022) | C8: [0-120] The higher the index, the worse the situation | D8: 105 | E8: 58.9 | F8: 75.4 | G8: 64.2 | H8: NV | I8: 87.8 | J8: NV | K8: 54.4 | L8: 46 | M8: 66.7 | N8: NV | O8: 19.7 | P8: 25 | Q8: 73.2 | R8: 48.8 | S8: 63.8 | T8: 87.7 | U8: 48 | V8: 68.2 | W8: 28.6 | X8: 62.5 | Y8: 73.6 | Z8: NV | AA8: 72 | AB8: 72.9 | AC8: 71.3 | AD8: 59.5 | AE8: 71.8 | AF8: 57.5 | AG8: 50.6 | AH8: 83.9 | AI8: 98.2 | AJ8: 82.5 | AK8: 97 | AL8: 20 | AM8: 66.6 | AN8: NV | AO8: 108.9 | AP8: 108.5 | AQ8: 38.9 | AR8: 71.1 | AS8: 75.7 | AT8: 81.7 | AU8: 110.2 | AV8: 92.5 | AW8: NV | AX8: 42 | AY8: 92.1 | AZ8: 47.5 | BA8: 60.8 | BB8: 57.8 | BC8: 37.6 | BD8: 19.5 | BE8: 85.1 | BF8: NV | BG8: 66.2 | BH8: 71.2 | BI8: 88.4 | BJ8: 69.8 | BK8: 82.6 | BL8: 96.4 | BM8: 40.8 | BN8: 85.3 | BO8: 94.2 | BP8: 71.7 | BQ8: 16.9 | BR8: 32 | BS8: NV | BT8: 70.5 | BU8: 83.9 | BV8: 72 | BW8: 24.7 | BX8: 65.9 | BY8: 53.9 | BZ8: NV | CA8: 57.6 | CB8: NV | CC8: 81.4 | CD8: 99.4 | CE8: 95.5 | CF8: 68.2 | CG8: 99.3 | CH8: 77.8 | CI8: NV | CJ8: 49.6 | CK8: 19.8 | CL8: 74.4 | CM8: 70.4 | CN8: 83 | CO8: 99.1 | CP8: 20.6 | CQ8: 76.5 | CR8: 43.8 | CS8: 61.2 | CT8: 34.3 | CU8: NV | CV8: 75.9 | CW8: 61.6 | CX8: 93.5 | CY8: NV | CZ8: 92.7 | DA8: 33.7 | DB8: NV | DC8: 3.2 | DD8: 76.2 | DE8: 78.7 | DF8: 43.9 | DG8: 85 | DH8: 79.7 | DI8: 90.2 | DJ8: 92.2 | DK8: NV | DL8: 38.1 | DM8: 20.4 | DN8: NV | DO8: 80.9 | DP8: 83.3 | DQ8: 60.5 | DR8: 69.8 | DS8: 94.5 | DT8: 34.5 | DU8: NV | DV8: NV | DW8: 90.1 | DX8: 38.9 | DY8: 69.7 | DZ8: 73 | EA8: 67.1 | EB8: NV | EC8: 54.1 | ED8: 55.3 | EE8: 73.9 | EF8: 88.7 | EG8: 94.3 | EH8: 66.4 | EI8: NV | EJ8: 84.7 | EK8: 24.8 | EL8: NV | EM8: 20.1 | EN8: 78.1 | EO8: 96.2 | EP8: 98.5 | EQ8: NV | ER8: NV | ES8: 18 | ET8: 50 | EU8: 94.2 | EV8: NV | EW8: 47 | EX8: 83.1 | EY8: 67 | EZ8: 54.589371 | FA8: 83.1 | FB8: 42.8 | FC8: 25.3 | FD8: NV | FE8: 45.4 | FF8: NV | FG8: 47.8 | FH8: 74.7 | FI8: 87.5 | FJ8: NV | FK8: NV | FL8: 71.1 | FM8: 70.4 | FN8: 77.2 | FO8: 68 | FP8: 55.2 | FQ8: 86.8 | FR8: 28.1 | FS8: 40.5 | FT8: 28 | FU8: 81.9 | FV8: 112.3 | FW8: 71.1 | FX8: 112.2 | FY8: 40.7 | FZ8: 84 | GA8: NV | GB8: NV | GC8: NV | GD8: 108 | GE8: 61.9 | GF8: 20.3 | GG8: 18.7 | GH8: 111.5 | GI8: NV | GJ8: 77.7 | GK8: 80.1 | GL8: 73.1 | GM8: 85.5 | GN8: 87.4 | GO8: NV | GP8: 53 | GQ8: 70.1 | GR8: 80.3 | GS8: 71.4 | GT8: NV | GU8: 95.3 | GV8: 71 | GW8: 40.1 | GX8: 36.7 | GY8: 38 | GZ8: 34 | HA8: 75.7 | HB8: NV | HC8: 89.3 | HD8: 66.1 | HE8: NV | HF8: NV | HG8: 113.5 | HH8: 85.7 | HI8: 99.5
