Workbook

Sheet Introduction
A3: Funding entity | G3: Coordinating and developing partner
A12: Appendix A. Job coefficients (f) estimation
A15: Introduction
A16: The job coefficients (f) represent the direct and indirect Working Hours (WHs) required to produce one monetary unit. This factor can be obtained directly from social databases (e.g., SHDB, PSILCA or EXIOBASE) or manually from Input-Output Tables (IOTs), as is explained in Annex A. Job Creation Potential calculator tool. It is essential for quantifying jobs in the background system as part of calculating the Job Creation Potential (JCP) indicator. The methodology developed by Pillain et al. (2019)¹ was used as a reference for developing this factor, with data from Spain for the year 2018 as an example. However, users must adjust the location and year for their studies, as explained in subsequent steps. ¹Pillain, B., Viana, L.R., Lefeuvre, A., Jacquemin, L., Sonnemann, G., 2019. Social life cycle assessment framework for evaluation of potential job creation with an application in the French carbon fiber aeronautical recycling sector. Int. J. Life Cycle Assess. 24, 1729–1742. https://doi.org/10.1007/s11367-019-01593-y
A18: Instructions
A19: For cases where the year and country do not match to the proposed ones, the following steps must be followed: 1. Fill in the 'Full-Time Equivalent (FTE)' sheet with FTE data for the reference year and country. 2. Complete the number of workers per sector in the 'Workers Per Sector (WPS)' sheet. 3. Enter the IOT and the inverse matrix of Leontief in the "IOT (Xj)" and "IOT inverse Leontief" sheets, respectively. 4. Although no data needs to be entered, ensure that the calculations on the 'Working Hours (Kj)' and 'Sj' sheets are performed correctly. 5. The results of job coeffcients (f) in terms of hours per United States Dollars (USD) are presented in the 'f (calculation)' sheet. To convert this to €, fill in the exchange rate in cell G16. Finally, the results of f in hours per € are presented in column D.
A28: Methodology
A29: i. Calculation of the direct coefficients of the volume of WHs The initial step involves constructing a matrix (Sj) that incorporates the direct WHs (Working Hours) associated with the economic sector identified in the Input-Output Tables - IOTs (Kj) and the monetary production of this economic sector (Xj) (Equation 1). If information on direct WHs is not available, it can be estimated from the Workers Per Sector (WPS) and the annual hours worked per employee, denoted as Full-Time Equivalent (FTE) (Equation 2). ii. Calculation of the total induced WHs (direct and indirect) The directly and indirectly induced WHs associated with each economic sector in the IOTs is then calculated by applying the inverse matrix of Leontief (Equation 3). Note that (I-A)-1 represents the inverse matrix of Leontief.
A47: Index
A48: Job coefficient (f) | B48: Direct and indirect WHs required to produce one monetary unit. Results in hours per € are expresed for the example proposed.
A49: Full-Time Equivalente (FTE) | B49: Total number of hours worked per year by one employee
A50: Workers Per sector (WPS) | B50: Total number of employees within a specific sector
A51: Working Hours (Kj) | B51: Hours worked within an economic sector
A52: IOT (Xj) | B52: Input-Output Table
A53: Sj | B53: Hours worked per monetary unit
A54: IOT inverse Leontief | B54: Inverse matrix of Leontief
A55: f (calculation) | B55: Breakdown of f calculation
A57: Contact
A58: If you have any questions, please do not hesitate to contact us on the following email account: calimero@contactica.es

Sheet Job coefficients (f)
B2: Legend
C4: Cell | D4: Meaning
D5: Title
D6: Editable value
D7: Description
D8: Methodology followed
B10: Job coefficients (f)
G14: Value | H14: Unit
B15: Economic sector | C15: f (h·USD-1) | D15: f (h·€-1) | F15: Equivalence | G15: 1 | H15: USD
B16: Agriculture, hunting, forestry | C16: {=TRANSPOSE('f (calculation)'!C20:AU20)} -> 0.38795975 | D16: =C16/$G$16 -> 0.45706851 | G16: 0.8488 | H16: €
B17: Fishing and aquaculture | C17: 0.24642805 | D17: =C17/$G$16 -> 0.29032523
B18: Mining and quarrying, energy producing products | C18: 0.036445027 | D18: =C18/$G$16 -> 0.04293712
B19: Mining and quarrying, non-energy producing products | C19: 0.063810557 | D19: =C19/$G$16 -> 0.075177376
B20: Mining support service activities | C20: 0.65204268 | D20: =C20/$G$16 -> 0.76819355
B21: Food products, beverages and tobacco | C21: 0.052419949 | D21: =C21/$G$16 -> 0.061757716
B22: Textiles, textile products, leather and footwear | C22: 0.056693474 | D22: =C22/$G$16 -> 0.0667925
B23: Wood and products of wood and cork | C23: 0.1408594 | D23: =C23/$G$16 -> 0.16595122
B24: Paper products and printing | C24: 0.045214598 | D24: =C24/$G$16 -> 0.053268848
B25: Coke and refined petroleum products | C25: 0.0029657329 | D25: =C25/$G$16 -> 0.0034940303
B26: Chemical and chemical products | C26: 0.028311629 | D26: =C26/$G$16 -> 0.033354888
B27: Pharmaceuticals, medicinal chemical and botanical products | C27: 0.058895199 | D27: =C27/$G$16 -> 0.069386427
B28: Rubber and plastics products | C28: 0.038361678 | D28: =C28/$G$16 -> 0.04519519
... B60: Activities of households as employers; undifferentiated goods- and services-producing activities of households for own use | C60: 0 | D60: =C60/$G$16 -> 0

Sheet Full-Time Equivalent (FTE)
C2: Legend
C4: Cell | D4: Meaning
D5: Title
D6: Editable value
D7: Description
D8: Methodology followed
C10: Full-Time Equivalent (FTE)
B14: Country | C14: FTE (h·(worker·year)-1)
B15: Unknown | C15: =AVERAGE(C16:C185) -> 1843.3267
B16: Afghanistan | C16: 1829.52 | E16: Data from the OECD1 (Organization for Economic Co-operation and Development) is used to estimate the Full-Time Equivalent (FTE) relative to each country. However, there are data gaps for some countries, so estimations based on ILOSTAT2 (International Labor Statistics) were made for non-OECD countries. In this regard, ILOSTAT provides average weekly hours per employee, which have been relativized per year considering the worldwide average number of working weeks in a year. The reference year is 2018. 1https://stats.oecd.org/viewhtml.aspx?datasetcode=ANHRS&lang=en 2https://ilostat.ilo.org/topics/working-time/
B17: Albania | C17: 1926.54
B18: Algeria | C18: 2018.94
B19: Angola | C19: 1912.68
B20: Argentina | C20: 1709.4
B21: Armenia | C21: 1852.62
B22: Aruba | C22: 1820.28
B23: Australia | C23: 1654
B24: Austria | C24: 1502
B25: Azerbaijan | C25: 1589.28
B26: Bangladesh | C26: 2166.78
B27: Belarus | C27: 1806.42
B28: Belgium | C28: 1580
... B185: Zimbabwe | C185: 1908.06

Sheet Workers Per Sector (WPS)
B2: Legend
C4: Cell | D4: Meaning
D5: Title
D6: Editable value
D7: Description
D8: Methodology followed
B10: Workers per sector (WPS)
B15: Economic sector | C15: WPS (persons, thousands)
B16: Agriculture, hunting, forestry | C16: 483.3 | E16: The number of workers is obtained from the OECD1, using Spain and the year 2018 as a reference.
B17: Fishing and aquaculture | C17: 24.5
B18: Mining and quarrying, energy producing products | C18: 19.6 | E18: 1OECD - Employment by activities and status (ALFS)
B19: Mining and quarrying, non-energy producing products
B20: Mining support service activities
B21: Food products, beverages and tobacco | C21: 391.8
B22: Textiles, textile products, leather and footwear | C22: 115.9
B23: Wood and products of wood and cork | C23: 47.2
B24: Paper products and printing | C24: 45.2
B25: Coke and refined petroleum products | C25: 9
B26: Chemical and chemical products | C26: 92.5
B27: Pharmaceuticals, medicinal chemical and botanical products | C27: 41
B28: Rubber and plastics products | C28: 98.4
B29: Other non-metallic mineral products | C29: 91.4
B30: Basic metals | C30: 61.8
B31: Fabricated metal products | C31: 232.2
B32: Computer, electronic and optical equipment | C32: 24.8
... B60: Activities of households as employers; undifferentiated goods- and services-producing activities of households for own use | C60: 639.1

Sheet Working Hours (Kj)
B2: Legend
C4: Cell | D4: Meaning
D5: Title
D6: Description
D7: Methodology followed
B9: Direct working hours
B14: Economic sector | C14: Kj (h)
B15: Agriculture, hunting, forestry | C15: ='Full-Time Equivalent (FTE)'!$C$161*'Workers Per Sector (WPS)'!C16/1000 -> 820.45008
B16: Fishing and aquaculture | C16: ='Full-Time Equivalent (FTE)'!$C$161*'Workers Per Sector (WPS)'!C17/1000 -> 41.5912
B17: Mining and quarrying, energy producing products | C17: ='Full-Time Equivalent (FTE)'!$C$161*'Workers Per Sector (WPS)'!C18/1000 -> 33.27296
B18: Mining and quarrying, non-energy producing products | C18: ='Full-Time Equivalent (FTE)'!$C$161*'Workers Per Sector (WPS)'!C19/1000 -> 0
B19: Mining support service activities | C19: ='Full-Time Equivalent (FTE)'!$C$161*'Workers Per Sector (WPS)'!C20/1000 -> 0
B20: Food products, beverages and tobacco | C20: ='Full-Time Equivalent (FTE)'!$C$161*'Workers Per Sector (WPS)'!C21/1000 -> 665.11968
B21: Textiles, textile products, leather and footwear | C21: ='Full-Time Equivalent (FTE)'!$C$161*'Workers Per Sector (WPS)'!C22/1000 -> 196.75184
B22: Wood and products of wood and cork | C22: ='Full-Time Equivalent (FTE)'!$C$161*'Workers Per Sector (WPS)'!C23/1000 -> 80.12672
B23: Paper products and printing | C23: ='Full-Time Equivalent (FTE)'!$C$161*'Workers Per Sector (WPS)'!C24/1000 -> 76.73152
B24: Coke and refined petroleum products | C24: ='Full-Time Equivalent (FTE)'!$C$161*'Workers Per Sector (WPS)'!C25/1000 -> 15.2784
B25: Chemical and chemical products | C25: ='Full-Time Equivalent (FTE)'!$C$161*'Workers Per Sector (WPS)'!C26/1000 -> 157.028
B26: Pharmaceuticals, medicinal chemical and botanical products | C26: ='Full-Time Equivalent (FTE)'!$C$161*'Workers Per Sector (WPS)'!C27/1000 -> 69.6016
... B59: Activities of households as employers; undifferentiated goods- and services-producing activities of households for own use | C59: ='Full-Time Equivalent (FTE)'!$C$161*'Workers Per Sector (WPS)'!C60/1000 -> 1084.9362

Sheet IOT (Xj) 
B2: Legend
C4: Cell | D4: Meaning
D5: Title
D6: Editable value
D7: Description
D8: Methodology followed
D9: Final value
B11: Input-Output Tables (IOTs) 2021 ed.
E13: Total IOTs data for Spain for the year 2018 (the most recent available) was selected from the OECD1. The unit of the data is in millions of USD.
E15: 1 OECD - Input-Output Tables (IOTs) 2021 ed
B17: Economic sector | C17: Agriculture, hunting, forestry | D17: Fishing and aquaculture | E17: Mining and quarrying, energy producing products | F17: Mining and quarrying, non-energy producing products | G17: Mining support service activities | H17: Food products, beverages and tobacco | I17: Textiles, textile products, leather and footwear | J17: Wood and products of wood and cork | K17: Paper products and printing | L17: Coke and refined petroleum products | M17: Chemical and chemical products | N17: Pharmaceuticals, medicinal chemical and botanical products | O17: Rubber and plastics products | P17: Other non-metallic mineral products | Q17: Basic metals | R17: Fabricated metal products | S17: Computer, electronic and optical equipment | T17: Electrical equipment | U17: Machinery and equipment, nec | V17: Motor vehicles, trailers and semi-trailers | W17: Other transport equipment | X17: Manufacturing nec; repair and installation of machinery and equipment | Y17: Electricity, gas, steam and air conditioning supply | Z17: Water supply; sewerage, waste management and remediation activities | AA17: Construction | AB17: Wholesale and retail trade; repair of motor vehicles | AC17: Land transport and transport via pipelines | AD17: Water transport | AE17: Air transport | AF17: Warehousing and support activities for transportation | AG17: Postal and courier activities | AH17: Accommodation and food service activities | AI17: Publishing, audiovisual and broadcasting activities | AJ17: Telecommunications | AK17: IT and other information services | AL17: Financial and insurance activities | AM17: Real estate activities | AN17: Professional, scientific and technical activities | AO17: Administrative and support services | AP17: Public administration and defence; compulsory social security | AQ17: Education | AR17: Human health and social work activities | AS17: Arts, entertainment and recreation | AT17: Other service activities | AU17: Activities of households as employers; undifferentiated goods- and services-producing activities of households for own use | AV17: Final consumption expenditure of households | AW17: Final consumption expenditure of non-profit institutions serving households | AX17: Final consumption expenditure of general government | AY17: Gross Fixed Capital Formation | AZ17: Changes in inventories | BA17: Direct purchases abroad by residents (imports) | BB17: Direct purchases by non-residents (exports) | BC17: Exports (cross border) | BD17: Imports (cross border)
B18: Agriculture, hunting, forestry | C18: 2922.1 | D18: 21.9 | E18: 0.3 | F18: 5.2 | G18: 0.2 | H18: 34212.8 | I18: 810.8 | J18: 230.6 | K18: 543.3 | L18: 27.4 | M18: 1398.3 | N18: 458 | O18: 439.4 | P18: 22.8 | Q18: 35.5 | R18: 44.3 | S18: 6.5 | T18: 21.9 | U18: 28.9 | V18: 74.5 | W18: 28.4 | X18: 91.9 | Y18: 120.7 | Z18: 46.8 | AA18: 99.6 | AB18: 904.5 | AC18: 25 | AD18: 7.7 | AE18: 7.5 | AF18: 33.8 | AG18: 4 | AH18: 1088.4 | AI18: 52 | AJ18: 39.5 | AK18: 20 | AL18: 28.2 | AM18: 20.2 | AN18: 125.2 | AO18: 196.1 | AP18: 372 | AQ18: 201.1 | AR18: 188.2 | AS18: 169.7 | AT18: 20 | AU18: 0 | AV18: 15638.3 | AW18: 37.2 | AX18: 377.7 | AY18: 3033.1 | AZ18: 81.1 | BA18: 203.1 | BB18: 628.3 | BC18: 14710.5 | BD18: -11443.5
B19: Fishing and aquaculture | C19: 9.5 | D19: 30 | E19: 0 | F19: 0 | G19: 0 | H19: 204.3 | I19: 0.3 | J19: 0 | K19: 0.1 | L19: 0.2 | M19: 1.1 | N19: 1.4 | O19: 0.1 | P19: 0.1 | Q19: 0.2 | R19: 0.2 | S19: 0 | T19: 0.1 | U19: 0.1 | V19: 0.2 | W19: 0 | X19: 0.5 | Y19: 0.3 | Z19: 0.2 | AA19: 0.5 | AB19: 4.5 | AC19: 0.4 | AD19: 0.1 | AE19: 0.5 | AF19: 0.4 | AG19: 0 | AH19: 17.3 | AI19: 0.2 | AJ19: 0.2 | AK19: 0.1 | AL19: 0.1 | AM19: 0.1 | AN19: 0.3 | AO19: 0.6 | AP19: 10.2 | AQ19: 27.3 | AR19: 17.9 | AS19: 0.4 | AT19: 1 | AU19: 0 | AV19: 3677.5 | AW19: 0 | AX19: 0.1 | AY19: 1.8 | AZ19: 2 | BA19: 11.8 | BB19: 25.9 | BC19: 468.3 | BD19: -1270.6
B20: Mining and quarrying, energy producing products | C20: 5.3 | D20: 1.2 | E20: 0.5 | F20: 11.5 | G20: 6.2 | H20: 7.3 | I20: 0.8 | J20: 0.9 | K20: 1.6 | L20: 29688.5 | M20: 219.1 | N20: 1.1 | O20: 2.8 | P20: 20.9 | Q20: 528.9 | R20: 10.3 | S20: 0.3 | T20: 3.5 | U20: 1.9 | V20: 3.9 | W20: 1.7 | X20: 3 | Y20: 7594.6 | Z20: 4.3 | AA20: 27.2 | AB20: 174.3 | AC20: 28.3 | AD20: 1.5 | AE20: 6.3 | AF20: 7.6 | AG20: 0.6 | AH20: 6.8 | AI20: 4.5 | AJ20: 2.2 | AK20: 1.9 | AL20: 3.3 | AM20: 5.6 | AN20: 25.6 | AO20: 12.6 | AP20: 19.8 | AQ20: 2.6 | AR20: 3.6 | AS20: 7 | AT20: 1 | AU20: 0 | AV20: 118 | AW20: 0.1 | AX20: 4.5 | AY20: 28.4 | AZ20: 5.9 | BA20: 5.6 | BB20: 1.7 | BC20: 506.6 | BD20: -37802.1
B21: Mining and quarrying, non-energy producing products | C21: 6.7 | D21: 4.4 | E21: 0.3 | F21: 84.2 | G21: 3.8 | H21: 100.2 | I21: 4.2 | J21: 2 | K21: 78.8 | L21: 2.9 | M21: 308.5 | N21: 22.9 | O21: 7.1 | P21: 989.6 | Q21: 2681.8 | R21: 193.3 | S21: 1.8 | T21: 469.5 | U21: 16.2 | V21: 101.8 | W21: 2.9 | X21: 18.8 | Y21: 6 | Z21: 58.2 | AA21: 878.3 | AB21: 155.8 | AC21: 3.9 | AD21: 0.3 | AE21: 2.6 | AF21: 7.4 | AG21: 0.2 | AH21: 23.6 | AI21: 1.9 | AJ21: 14.6 | AK21: 11.6 | AL21: 2.6 | AM21: 3.5 | AN21: 65.6 | AO21: 11 | AP21: 37.2 | AQ21: 1.6 | AR21: 6.5 | AS21: 6.9 | AT21: 2.7 | AU21: 0 | AV21: 74 | AW21: 0.1 | AX21: 2.9 | AY21: 261.7 | AZ21: 3.9 | BA21: 3 | BB21: 2.9 | BC21: 1510.8 | BD21: -3702
B22: Mining support service activities | C22: 1.5 | D22: 0.2 | E22: 2.7 | F22: 31.2 | G22: 8.2 | H22: 2.3 | I22: 0.1 | J22: 0 | K22: 2.8 | L22: 53.9 | M22: 4.2 | N22: 0.1 | O22: 0.9 | P22: 16.9 | Q22: 14.3 | R22: 0.4 | S22: 0 | T22: 0.2 | U22: 0.4 | V22: 0.3 | W22: 0.2 | X22: 0.1 | Y22: 20.2 | Z22: 2.7 | AA22: 123.9 | AB22: 1.1 | AC22: 4.4 | AD22: 0 | AE22: 0.1 | AF22: 1.4 | AG22: 0 | AH22: 0.4 | AI22: 0.1 | AJ22: 0.1 | AK22: 0.2 | AL22: 0.1 | AM22: 1.7 | AN22: 3.9 | AO22: 0.8 | AP22: 1.2 | AQ22: 0.1 | AR22: 0.3 | AS22: 0.2 | AT22: 0.1 | AU22: 0 | AV22: 2 | AW22: 0 | AX22: 0.3 | AY22: 1 | AZ22: 11.7 | BA22: 1.5 | BB22: 0 | BC22: 238 | BD22: -223.6
B23: Food products, beverages and tobacco | C23: 9497.8 | D23: 209.5 | E23: 3.8 | F23: 43.9 | G23: 1.2 | H23: 25134.2 | I23: 214.3 | J23: 27.2 | K23: 147.2 | L23: 116.6 | M23: 750.6 | N23: 77.4 | O23: 133.2 | P23: 98.9 | Q23: 100.2 | R23: 117.1 | S23: 17.6 | T23: 69.7 | U23: 84.3 | V23: 237.2 | W23: 144.5 | X23: 141.4 | Y23: 398.7 | Z23: 247.2 | AA23: 478.7 | AB23: 3561.7 | AC23: 238.2 | AD23: 7.8 | AE23: 86.2 | AF23: 322.8 | AG23: 14.5 | AH23: 22457.1 | AI23: 82.3 | AJ23: 187 | AK23: 477.2 | AL23: 279.6 | AM23: 144.2 | AN23: 653.5 | AO23: 587.2 | AP23: 925.8 | AQ23: 626.5 | AR23: 1192.2 | AS23: 227.4 | AT23: 89.4 | AU23: 0 | AV23: 64461.1 | AW23: 30.4 | AX23: 102.3 | AY23: 503.4 | AZ23: 4152.1 | BA23: 735.9 | BB23: 2311.8 | BC23: 28587.7 | BD23: -25316.5
B24: Textiles, textile products, leather and footwear | C24: 26.6 | D24: 39.5 | E24: 0.4 | F24: 2.3 | G24: 0.5 | H24: 127.8 | I24: 3456.3 | J24: 9.8 | K24: 126.2 | L24: 8.5 | M24: 204.7 | N24: 49.4 | O24: 281.9 | P24: 47.5 | Q24: 37.5 | R24: 76.7 | S24: 8.1 | T24: 34.5 | U24: 24.5 | V24: 648.8 | W24: 15.1 | X24: 333.3 | Y24: 31 | Z24: 49.9 | AA24: 168.9 | AB24: 424 | AC24: 51.1 | AD24: 2.1 | AE24: 41.8 | AF24: 102.1 | AG24: 4 | AH24: 347.3 | AI24: 67.1 | AJ24: 17.7 | AK24: 44.2 | AL24: 35.1 | AM24: 33.8 | AN24: 397.4 | AO24: 251.9 | AP24: 195.8 | AQ24: 48.1 | AR24: 134 | AS24: 81.1 | AT24: 109.7 | AU24: 0 | AV24: 18842.3 | AW24: 1.1 | AX24: 21.3 | AY24: 189.5 | AZ24: 1489.4 | BA24: 459.3 | BB24: 844.6 | BC24: 10943.8 | BD24: -17885.5
B25: Wood and products of wood and cork | C25: 43.6 | D25: 13 | E25: 0.8 | F25: 28.4 | G25: 0.7 | H25: 338.6 | I25: 22.4 | J25: 2121.5 | K25: 140.2 | L25: 6.8 | M25: 66.3 | N25: 9.3 | O25: 97.3 | P25: 164.8 | Q25: 32.2 | R25: 205.9 | S25: 5 | T25: 133.4 | U25: 319.9 | V25: 192.2 | W25: 49 | X25: 706.4 | Y25: 30.3 | Z25: 19.8 | AA25: 1422.1 | AB25: 189.3 | AC25: 124.5 | AD25: 1 | AE25: 5.5 | AF25: 113.4 | AG25: 0.9 | AH25: 158.1 | AI25: 112.6 | AJ25: 23.4 | AK25: 19.3 | AL25: 17.2 | AM25: 22.5 | AN25: 51.2 | AO25: 130.2 | AP25: 41.5 | AQ25: 37.1 | AR25: 83.6 | AS25: 16.4 | AT25: 32.1 | AU25: 0 | AV25: 750.2 | AW25: 7.2 | AX25: 9.2 | AY25: 123.3 | AZ25: 68.4 | BA25: 36.3 | BB25: 137.6 | BC25: 1815.1 | BD25: -1686.8
B26: Paper products and printing | C26: 30.8 | D26: 1.2 | E26: 0.4 | F26: 8.6 | G26: 0.5 | H26: 2815.8 | I26: 255.1 | J26: 263.2 | K26: 5814.8 | L26: 19.2 | M26: 700.6 | N26: 444.6 | O26: 336.7 | P26: 277.6 | Q26: 64.4 | R26: 362.7 | S26: 21.3 | T26: 194 | U26: 195.1 | V26: 185.3 | W26: 27.3 | X26: 483.1 | Y26: 317.5 | Z26: 266 | AA26: 77.7 | AB26: 1300.7 | AC26: 32.9 | AD26: 1.4 | AE26: 17.3 | AF26: 73.2 | AG26: 3.5 | AH26: 326.3 | AI26: 444.8 | AJ26: 106.1 | AK26: 388 | AL26: 622.2 | AM26: 69.5 | AN26: 1275.3 | AO26: 321.3 | AP26: 351.9 | AQ26: 286 | AR26: 163.4 | AS26: 106.1 | AT26: 133.3 | AU26: 0 | AV26: 4028.8 | AW26: 9.9 | AX26: 35.3 | AY26: 170.8 | AZ26: 260.4 | BA26: 93.9 | BB26: 259.1 | BC26: 4491.8 | BD26: -4931.8
B27: Coke and refined petroleum products | C27: 631 | D27: 174.8 | E27: 9.1 | F27: 174.6 | G27: 11.1 | H27: 302 | I27: 53.2 | J27: 136.1 | K27: 141.8 | L27: 1728.2 | M27: 1328.6 | N27: 79.6 | O27: 336.3 | P27: 246.4 | Q27: 301.7 | R27: 169.1 | S27: 8.3 | T27: 199.1 | U27: 79.6 | V27: 237.3 | W27: 28.3 | X27: 266.5 | Y27: 1674.3 | Z27: 629.3 | AA27: 1169.7 | AB27: 1160 | AC27: 5471.3 | AD27: 267.9 | AE27: 893.9 | AF27: 292.8 | AG27: 91.2 | AH27: 226.4 | AI27: 37.3 | AJ27: 36.6 | AK27: 69.2 | AL27: 207.1 | AM27: 67.9 | AN27: 245.6 | AO27: 288.3 | AP27: 508.6 | AQ27: 317.6 | AR27: 194.4 | AS27: 114.8 | AT27: 84.8 | AU27: 0 | AV27: 19078.6 | AW27: 0.7 | AX27: 29.8 | AY27: 174.9 | AZ27: 1778.9 | BA27: 272.8 | BB27: 851.5 | BC27: 17735.5 | BD27: -11541.7
B28: Chemical and chemical products | C28: 1986 | D28: 23.8 | E28: 3.5 | F28: 152.3 | G28: 6.7 | H28: 1171.9 | I28: 495.6 | J28: 338.2 | K28: 755.1 | L28: 359.3 | M28: 10705.7 | N28: 1575.3 | O28: 2334.2 | P28: 1167.1 | Q28: 625.2 | R28: 930.1 | S28: 62.4 | T28: 408 | U28: 210.2 | V28: 1930.4 | W28: 182.2 | X28: 360.8 | Y28: 1310.2 | Z28: 956.6 | AA28: 3002.1 | AB28: 1860.5 | AC28: 259 | AD28: 11.6 | AE28: 55.1 | AF28: 394 | AG28: 8.6 | AH28: 455.2 | AI28: 166.4 | AJ28: 96 | AK28: 205.9 | AL28: 144.8 | AM28: 50.5 | AN28: 684.7 | AO28: 283.4 | AP28: 396.7 | AQ28: 96.4 | AR28: 1889.1 | AS28: 115.9 | AT28: 188.8 | AU28: 0 | AV28: 8618 | AW28: 2.9 | AX28: 242.9 | AY28: 409.5 | AZ28: 502.6 | BA28: 123.7 | BB28: 379.5 | BC28: 22982.1 | BD28: -23699
B29: Pharmaceuticals, medicinal chemical and botanical products | C29: 187.3 | D29: 3.8 | E29: 0.5 | F29: 6.1 | G29: 0.3 | H29: 253.4 | I29: 27.5 | J29: 15.6 | K29: 89 | L29: 23.6 | M29: 302.2 | N29: 399 | O29: 69.1 | P29: 42.7 | Q29: 162.9 | R29: 45.6 | S29: 8.1 | T29: 28.6 | U29: 28.5 | V29: 105.9 | W29: 41.2 | X29: 33.4 | Y29: 62.5 | Z29: 42.7 | AA29: 128.6 | AB29: 792.4 | AC29: 34.5 | AD29: 1.7 | AE29: 12.8 | AF29: 59 | AG29: 2.1 | AH29: 165.4 | AI29: 28.3 | AJ29: 40.2 | AK29: 75.2 | AL29: 41 | AM29: 17.9 | AN29: 196.7 | AO29: 81.2 | AP29: 135.5 | AQ29: 34.5 | AR29: 3797.5 | AS29: 30.3 | AT29: 48.5 | AU29: 0 | AV29: 5384.6 | AW29: 2.7 | AX29: 5772 | AY29: 599.1 | AZ29: 354.8 | BA29: 99.8 | BB29: 215.8 | BC29: 9286 | BD29: -12119.7
... B67: Output at basic prices (Xj) | C67: 68461.5 | D67: 3248.2 | E67: 1331.1 | F67: 4561.5 | G67: 334.8 | H67: 146220.9 | I67: 23103.6 | J67: 8610 | K67: 23604.4 | L67: 49072.5 | M67: 47978 | N67: 17297.7 | O67: 24027.3 | P67: 22375.5 | Q67: 40421.3 | R67: 44430.6 | S67: 5410.1 | T67: 21832.4 | U67: 25849.9 | V67: 81761.7 | W67: 19533.8 | X67: 29253.6 | Y67: 69360.4 | Z67: 35490.8 | AA67: 176699.8 | AB67: 284656.6 | AC67: 64249.5 | AD67: 2695.6 | AE67: 14651.5 | AF67: 55950.6 | AG67: 6023.9 | AH67: 145634.2 | AI67: 23488.9 | AJ67: 38713 | AK67: 43868.6 | AL67: 90249.1 | AM67: 174728 | AN67: 112250 | AO67: 98341.8 | AP67: 106889.4 | AQ67: 78406.3 | AR67: 126491.5 | AS67: 42371.2 | AT67: 35938.5 | AU67: 11848.4 | AV67: 0 | AW67: 0 | AX67: 0 | AY67: 0 | AZ67: 0 | BA67: 0 | BB67: 0 | BC67: 0 | BD67: 0

Sheet Sj
B2: Legend
C4: Cell | D4: Meaning
D5: Title
D6: Methodology followed
B8: Hours worked per monetary unit (Sj)
B18: Economic sector | C18: Agriculture, hunting, forestry | D18: Fishing and aquaculture | E18: Mining and quarrying, energy producing products | F18: Mining and quarrying, non-energy producing products | G18: Mining support service activities | H18: Food products, beverages and tobacco | I18: Textiles, textile products, leather and footwear | J18: Wood and products of wood and cork | K18: Paper products and printing | L18: Coke and refined petroleum products | M18: Chemical and chemical products | N18: Pharmaceuticals, medicinal chemical and botanical products | O18: Rubber and plastics products | P18: Other non-metallic mineral products | Q18: Basic metals | R18: Fabricated metal products | S18: Computer, electronic and optical equipment | T18: Electrical equipment | U18: Machinery and equipment, nec | V18: Motor vehicles, trailers and semi-trailers | W18: Other transport equipment | X18: Manufacturing nec; repair and installation of machinery and equipment | Y18: Electricity, gas, steam and air conditioning supply | Z18: Water supply; sewerage, waste management and remediation activities | AA18: Construction | AB18: Wholesale and retail trade; repair of motor vehicles | AC18: Land transport and transport via pipelines | AD18: Water transport | AE18: Air transport | AF18: Warehousing and support activities for transportation | AG18: Postal and courier activities | AH18: Accommodation and food service activities | AI18: Publishing, audiovisual and broadcasting activities | AJ18: Telecommunications | AK18: IT and other information services | AL18: Financial and insurance activities | AM18: Real estate activities | AN18: Professional, scientific and technical activities | AO18: Administrative and support services | AP18: Public administration and defence; compulsory social security | AQ18: Education | AR18: Human health and social work activities | AS18: Arts, entertainment and recreation | AT18: Other service activities | AU18: Activities of households as employers; undifferentiated goods- and services-producing activities of households for own use
B19: Agriculture, hunting, forestry | C19: ='Working Hours (Kj)'!$C15/'IOT (Xj) '!C$67 -> 0.011984109 | D19: ='Working Hours (Kj)'!$C15/'IOT (Xj) '!D$67 -> 0.25258607 | E19: ='Working Hours (Kj)'!$C15/'IOT (Xj) '!E$67 -> 0.61636998 | F19: ='Working Hours (Kj)'!$C15/'IOT (Xj) '!F$67 -> 0.1798641 | G19: ='Working Hours (Kj)'!$C15/'IOT (Xj) '!G$67 -> 2.4505677 | H19: ='Working Hours (Kj)'!$C15/'IOT (Xj) '!H$67 -> 0.0056110315 | I19: ='Working Hours (Kj)'!$C15/'IOT (Xj) '!I$67 -> 0.035511785 | J19: ='Working Hours (Kj)'!$C15/'IOT (Xj) '!J$67 -> 0.095290369 | ... AU19: ='Working Hours (Kj)'!$C15/'IOT (Xj) '!AU$67 -> 0.069245643
B20: Fishing and aquaculture | C20: ='Working Hours (Kj)'!$C16/'IOT (Xj) '!C$67 -> 0.00060751225 | D20: ='Working Hours (Kj)'!$C16/'IOT (Xj) '!D$67 -> 0.012804384 | E20: ='Working Hours (Kj)'!$C16/'IOT (Xj) '!E$67 -> 0.031245737 | F20: ='Working Hours (Kj)'!$C16/'IOT (Xj) '!F$67 -> 0.0091178779 | G20: ='Working Hours (Kj)'!$C16/'IOT (Xj) '!G$67 -> 0.124227 | H20: ='Working Hours (Kj)'!$C16/'IOT (Xj) '!H$67 -> 0.00028444087 | I20: ='Working Hours (Kj)'!$C16/'IOT (Xj) '!I$67 -> 0.0018002043 | J20: ='Working Hours (Kj)'!$C16/'IOT (Xj) '!J$67 -> 0.0048305691 | ... AU20: ='Working Hours (Kj)'!$C16/'IOT (Xj) '!AU$67 -> 0.0035102799
B21: Mining and quarrying, energy producing products | C21: ='Working Hours (Kj)'!$C17/'IOT (Xj) '!C$67 -> 0.0004860098 | D21: ='Working Hours (Kj)'!$C17/'IOT (Xj) '!D$67 -> 0.010243507 | E21: ='Working Hours (Kj)'!$C17/'IOT (Xj) '!E$67 -> 0.024996589 | F21: ='Working Hours (Kj)'!$C17/'IOT (Xj) '!F$67 -> 0.0072943023 | G21: ='Working Hours (Kj)'!$C17/'IOT (Xj) '!G$67 -> 0.099381601 | H21: ='Working Hours (Kj)'!$C17/'IOT (Xj) '!H$67 -> 0.0002275527 | I21: ='Working Hours (Kj)'!$C17/'IOT (Xj) '!I$67 -> 0.0014401634 | J21: ='Working Hours (Kj)'!$C17/'IOT (Xj) '!J$67 -> 0.0038644553 | ... AU21: ='Working Hours (Kj)'!$C17/'IOT (Xj) '!AU$67 -> 0.0028082239
B22: Mining and quarrying, non-energy producing products | C22: ='Working Hours (Kj)'!$C18/'IOT (Xj) '!C$67 -> 0 | D22: ='Working Hours (Kj)'!$C18/'IOT (Xj) '!D$67 -> 0 | E22: ='Working Hours (Kj)'!$C18/'IOT (Xj) '!E$67 -> 0 | F22: ='Working Hours (Kj)'!$C18/'IOT (Xj) '!F$67 -> 0 | G22: ='Working Hours (Kj)'!$C18/'IOT (Xj) '!G$67 -> 0 | H22: ='Working Hours (Kj)'!$C18/'IOT (Xj) '!H$67 -> 0 | I22: ='Working Hours (Kj)'!$C18/'IOT (Xj) '!I$67 -> 0 | J22: ='Working Hours (Kj)'!$C18/'IOT (Xj) '!J$67 -> 0 | ... AU22: ='Working Hours (Kj)'!$C18/'IOT (Xj) '!AU$67 -> 0
B23: Mining support service activities | C23: ='Working Hours (Kj)'!$C19/'IOT (Xj) '!C$67 -> 0 | D23: ='Working Hours (Kj)'!$C19/'IOT (Xj) '!D$67 -> 0 | E23: ='Working Hours (Kj)'!$C19/'IOT (Xj) '!E$67 -> 0 | F23: ='Working Hours (Kj)'!$C19/'IOT (Xj) '!F$67 -> 0 | G23: ='Working Hours (Kj)'!$C19/'IOT (Xj) '!G$67 -> 0 | H23: ='Working Hours (Kj)'!$C19/'IOT (Xj) '!H$67 -> 0 | I23: ='Working Hours (Kj)'!$C19/'IOT (Xj) '!I$67 -> 0 | J23: ='Working Hours (Kj)'!$C19/'IOT (Xj) '!J$67 -> 0 | ... AU23: ='Working Hours (Kj)'!$C19/'IOT (Xj) '!AU$67 -> 0
B24: Food products, beverages and tobacco | C24: ='Working Hours (Kj)'!$C20/'IOT (Xj) '!C$67 -> 0.0097152367 | D24: ='Working Hours (Kj)'!$C20/'IOT (Xj) '!D$67 -> 0.20476562 | E24: ='Working Hours (Kj)'!$C20/'IOT (Xj) '!E$67 -> 0.49967672 | F24: ='Working Hours (Kj)'!$C20/'IOT (Xj) '!F$67 -> 0.14581161 | G24: ='Working Hours (Kj)'!$C20/'IOT (Xj) '!G$67 -> 1.9866179 | H24: ='Working Hours (Kj)'!$C20/'IOT (Xj) '!H$67 -> 0.004548732 | I24: ='Working Hours (Kj)'!$C20/'IOT (Xj) '!I$67 -> 0.028788573 | J24: ='Working Hours (Kj)'!$C20/'IOT (Xj) '!J$67 -> 0.077249672 | ... AU24: ='Working Hours (Kj)'!$C20/'IOT (Xj) '!AU$67 -> 0.056135823
B25: Textiles, textile products, leather and footwear | C25: ='Working Hours (Kj)'!$C21/'IOT (Xj) '!C$67 -> 0.0028739049 | D25: ='Working Hours (Kj)'!$C21/'IOT (Xj) '!D$67 -> 0.060572576 | E25: ='Working Hours (Kj)'!$C21/'IOT (Xj) '!E$67 -> 0.14781146 | F25: ='Working Hours (Kj)'!$C21/'IOT (Xj) '!F$67 -> 0.043133145 | G25: ='Working Hours (Kj)'!$C21/'IOT (Xj) '!G$67 -> 0.58766977 | H25: ='Working Hours (Kj)'!$C21/'IOT (Xj) '!H$67 -> 0.0013455795 | I25: ='Working Hours (Kj)'!$C21/'IOT (Xj) '!I$67 -> 0.0085160685 | J25: ='Working Hours (Kj)'!$C21/'IOT (Xj) '!J$67 -> 0.022851549 | ... AU25: ='Working Hours (Kj)'!$C21/'IOT (Xj) '!AU$67 -> 0.016605773
B26: Wood and products of wood and cork | C26: ='Working Hours (Kj)'!$C22/'IOT (Xj) '!C$67 -> 0.0011703909 | D26: ='Working Hours (Kj)'!$C22/'IOT (Xj) '!D$67 -> 0.024668038 | E26: ='Working Hours (Kj)'!$C22/'IOT (Xj) '!E$67 -> 0.060195868 | F26: ='Working Hours (Kj)'!$C22/'IOT (Xj) '!F$67 -> 0.017565871 | G26: ='Working Hours (Kj)'!$C22/'IOT (Xj) '!G$67 -> 0.23932712 | H26: ='Working Hours (Kj)'!$C22/'IOT (Xj) '!H$67 -> 0.00054798404 | I26: ='Working Hours (Kj)'!$C22/'IOT (Xj) '!I$67 -> 0.0034681487 | J26: ='Working Hours (Kj)'!$C22/'IOT (Xj) '!J$67 -> 0.0093062393 | ... AU26: ='Working Hours (Kj)'!$C22/'IOT (Xj) '!AU$67 -> 0.0067626616
B27: Paper products and printing | C27: ='Working Hours (Kj)'!$C23/'IOT (Xj) '!C$67 -> 0.0011207981 | D27: ='Working Hours (Kj)'!$C23/'IOT (Xj) '!D$67 -> 0.023622782 | E27: ='Working Hours (Kj)'!$C23/'IOT (Xj) '!E$67 -> 0.057645196 | F27: ='Working Hours (Kj)'!$C23/'IOT (Xj) '!F$67 -> 0.016821554 | G27: ='Working Hours (Kj)'!$C23/'IOT (Xj) '!G$67 -> 0.22918614 | H27: ='Working Hours (Kj)'!$C23/'IOT (Xj) '!H$67 -> 0.00052476438 | I27: ='Working Hours (Kj)'!$C23/'IOT (Xj) '!I$67 -> 0.0033211932 | J27: ='Working Hours (Kj)'!$C23/'IOT (Xj) '!J$67 -> 0.0089119071 | ... AU27: ='Working Hours (Kj)'!$C23/'IOT (Xj) '!AU$67 -> 0.0064761082
B28: Coke and refined petroleum products | C28: ='Working Hours (Kj)'!$C24/'IOT (Xj) '!C$67 -> 0.00022316777 | D28: ='Working Hours (Kj)'!$C24/'IOT (Xj) '!D$67 -> 0.0047036513 | E28: ='Working Hours (Kj)'!$C24/'IOT (Xj) '!E$67 -> 0.011478026 | F28: ='Working Hours (Kj)'!$C24/'IOT (Xj) '!F$67 -> 0.0033494245 | G28: ='Working Hours (Kj)'!$C24/'IOT (Xj) '!G$67 -> 0.045634409 | H28: ='Working Hours (Kj)'!$C24/'IOT (Xj) '!H$67 -> 0.00010448848 | I28: ='Working Hours (Kj)'!$C24/'IOT (Xj) '!I$67 -> 0.00066129954 | J28: ='Working Hours (Kj)'!$C24/'IOT (Xj) '!J$67 -> 0.0017744948 | ... AU28: ='Working Hours (Kj)'!$C24/'IOT (Xj) '!AU$67 -> 0.0012894906
B29: Chemical and chemical products | C29: ='Working Hours (Kj)'!$C25/'IOT (Xj) '!C$67 -> 0.0022936687 | D29: ='Working Hours (Kj)'!$C25/'IOT (Xj) '!D$67 -> 0.048343082 | E29: ='Working Hours (Kj)'!$C25/'IOT (Xj) '!E$67 -> 0.1179686 | F29: ='Working Hours (Kj)'!$C25/'IOT (Xj) '!F$67 -> 0.034424641 | G29: ='Working Hours (Kj)'!$C25/'IOT (Xj) '!G$67 -> 0.46902031 | H29: ='Working Hours (Kj)'!$C25/'IOT (Xj) '!H$67 -> 0.0010739094 | I29: ='Working Hours (Kj)'!$C25/'IOT (Xj) '!I$67 -> 0.0067966897 | J29: ='Working Hours (Kj)'!$C25/'IOT (Xj) '!J$67 -> 0.018237863 | ... AU29: ='Working Hours (Kj)'!$C25/'IOT (Xj) '!AU$67 -> 0.013253097
B30: Pharmaceuticals, medicinal chemical and botanical products | C30: ='Working Hours (Kj)'!$C26/'IOT (Xj) '!C$67 -> 0.0010166532 | D30: ='Working Hours (Kj)'!$C26/'IOT (Xj) '!D$67 -> 0.021427745 | E30: ='Working Hours (Kj)'!$C26/'IOT (Xj) '!E$67 -> 0.052288784 | F30: ='Working Hours (Kj)'!$C26/'IOT (Xj) '!F$67 -> 0.01525849 | G30: ='Working Hours (Kj)'!$C26/'IOT (Xj) '!G$67 -> 0.20789008 | H30: ='Working Hours (Kj)'!$C26/'IOT (Xj) '!H$67 -> 0.00047600309 | I30: ='Working Hours (Kj)'!$C26/'IOT (Xj) '!I$67 -> 0.0030125868 | J30: ='Working Hours (Kj)'!$C26/'IOT (Xj) '!J$67 -> 0.0080838095 | ... AU30: ='Working Hours (Kj)'!$C26/'IOT (Xj) '!AU$67 -> 0.0058743459
... B63: Activities of households as employers; undifferentiated goods- and services-producing activities of households for own use | C63: ='Working Hours (Kj)'!$C59/'IOT (Xj) '!C$67 -> 0.015847391 | D63: ='Working Hours (Kj)'!$C59/'IOT (Xj) '!D$67 -> 0.3340115 | E63: ='Working Hours (Kj)'!$C59/'IOT (Xj) '!E$67 -> 0.81506736 | F63: ='Working Hours (Kj)'!$C59/'IOT (Xj) '!F$67 -> 0.23784636 | G63: ='Working Hours (Kj)'!$C59/'IOT (Xj) '!G$67 -> 3.2405501 | H63: ='Working Hours (Kj)'!$C59/'IOT (Xj) '!H$67 -> 0.0074198433 | I63: ='Working Hours (Kj)'!$C59/'IOT (Xj) '!I$67 -> 0.046959615 | J63: ='Working Hours (Kj)'!$C59/'IOT (Xj) '!J$67 -> 0.12600885 | ... AU63: ='Working Hours (Kj)'!$C59/'IOT (Xj) '!AU$67 -> 0.091568158
B64: Summary | C64: =SUM(C19:C63) -> 0.35430115 | D64: =SUM(D19:D63) -> 7.4675167 | E64: =SUM(E19:E63) -> 18.222514 | F64: =SUM(F19:F63) -> 5.3175464 | G64: =SUM(G19:G63) -> 72.449187 | H64: =SUM(H19:H63) -> 0.16588592 | I64: =SUM(I19:I63) -> 1.0498791 | J64: =SUM(J19:J63) -> 2.8171879 | ... AU64: =SUM(AU19:AU63) -> 2.0471952

Sheet IOT inverse Leontief
B2: Legend
C4: Cell | D4: Meaning
D5: Title
D6: Editable value
D7: Description
D8: Methodology followed
B10: Leontief inverse matrix (total)
D12: Leontief inverse matrix data for Spain for the year 2018 (the most recent available) was selected from the OECD1. The unit of the data is in millions of USD.
D14: 1 OECD - Input-Output Tables (IOTs) 2021 ed
B16: Economic sector | C16: Agriculture, hunting, forestry | D16: Fishing and aquaculture | E16: Mining and quarrying, energy producing products | F16: Mining and quarrying, non-energy producing products | G16: Mining support service activities | H16: Food products, beverages and tobacco | I16: Textiles, textile products, leather and footwear | J16: Wood and products of wood and cork | K16: Paper products and printing | L16: Coke and refined petroleum products | M16: Chemical and chemical products | N16: Pharmaceuticals, medicinal chemical and botanical products | O16: Rubber and plastics products | P16: Other non-metallic mineral products | Q16: Basic metals | R16: Fabricated metal products | S16: Computer, electronic and optical equipment | T16: Electrical equipment | U16: Machinery and equipment, nec | V16: Motor vehicles, trailers and semi-trailers | W16: Other transport equipment | X16: Manufacturing nec; repair and installation of machinery and equipment | Y16: Electricity, gas, steam and air conditioning supply | Z16: Water supply; sewerage, waste management and remediation activities | AA16: Construction | AB16: Wholesale and retail trade; repair of motor vehicles | AC16: Land transport and transport via pipelines | AD16: Water transport | AE16: Air transport | AF16: Warehousing and support activities for transportation | AG16: Postal and courier activities | AH16: Accommodation and food service activities | AI16: Publishing, audiovisual and broadcasting activities | AJ16: Telecommunications | AK16: IT and other information services | AL16: Financial and insurance activities | AM16: Real estate activities | AN16: Professional, scientific and technical activities | AO16: Administrative and support services | AP16: Public administration and defence; compulsory social security | AQ16: Education | AR16: Human health and social work activities | AS16: Arts, entertainment and recreation | AT16: Other service activities | AU16: Activities of households as employers; undifferentiated goods- and services-producing activities of households for own use
B17: Agriculture, hunting, forestry | C17: 1.095 | D17: 0.033 | E17: 0.002 | F17: 0.012 | G17: 0.009 | H17: 0.316 | I17: 0.054 | J17: 0.05 | K17: 0.044 | L17: 0.006 | M17: 0.056 | N17: 0.042 | O17: 0.038 | P17: 0.015 | Q17: 0.011 | R17: 0.011 | S17: 0.01 | T17: 0.012 | U17: 0.011 | V17: 0.014 | W17: 0.012 | X17: 0.013 | Y17: 0.01 | Z17: 0.011 | AA17: 0.008 | AB17: 0.012 | AC17: 0.007 | AD17: 0.009 | AE17: 0.01 | AF17: 0.008 | AG17: 0.006 | AH17: 0.06 | AI17: 0.01 | AJ17: 0.008 | AK17: 0.011 | AL17: 0.005 | AM17: 0.002 | AN17: 0.008 | AO17: 0.011 | AP17: 0.009 | AQ17: 0.007 | AR17: 0.01 | AS17: 0.01 | AT17: 0.007 | AU17: 0
B18: Fishing and aquaculture | C18: 0 | D18: 1.01 | E18: 0 | F18: 0 | G18: 0 | H18: 0.002 | I18: 0 | J18: 0 | K18: 0 | L18: 0 | M18: 0 | N18: 0 | O18: 0 | P18: 0 | Q18: 0 | R18: 0 | S18: 0 | T18: 0 | U18: 0 | V18: 0 | W18: 0 | X18: 0 | Y18: 0 | Z18: 0 | AA18: 0 | AB18: 0 | AC18: 0 | AD18: 0 | AE18: 0 | AF18: 0 | AG18: 0 | AH18: 0 | AI18: 0 | AJ18: 0 | AK18: 0 | AL18: 0 | AM18: 0 | AN18: 0 | AO18: 0 | AP18: 0 | AQ18: 0 | AR18: 0 | AS18: 0 | AT18: 0 | AU18: 0
B19: Mining and quarrying, energy producing products | C19: 0.017 | D19: 0.043 | E19: 1.008 | F19: 0.043 | G19: 0.054 | H19: 0.017 | I19: 0.011 | J19: 0.03 | K19: 0.023 | L19: 0.644 | M19: 0.047 | N19: 0.017 | O19: 0.03 | P19: 0.035 | Q19: 0.053 | R19: 0.027 | S19: 0.014 | T19: 0.028 | U19: 0.02 | V19: 0.022 | W19: 0.014 | X19: 0.018 | Y19: 0.154 | Z19: 0.026 | AA19: 0.016 | AB19: 0.011 | AC19: 0.068 | AD19: 0.072 | AE19: 0.058 | AF19: 0.02 | AG19: 0.023 | AH19: 0.01 | AI19: 0.009 | AJ19: 0.012 | AK19: 0.008 | AL19: 0.005 | AM19: 0.002 | AN19: 0.008 | AO19: 0.009 | AP19: 0.009 | AQ19: 0.006 | AR19: 0.007 | AS19: 0.009 | AT19: 0.007 | AU19: 0
B20: Mining and quarrying, non-energy producing products | C20: 0.002 | D20: 0.003 | E20: 0.001 | F20: 1.025 | G20: 0.017 | H20: 0.004 | I20: 0.002 | J20: 0.004 | K20: 0.008 | L20: 0.002 | M20: 0.012 | N20: 0.006 | O20: 0.006 | P20: 0.054 | Q20: 0.091 | R20: 0.031 | S20: 0.009 | T20: 0.04 | U20: 0.017 | V20: 0.015 | W20: 0.008 | X20: 0.007 | Y20: 0.004 | Z20: 0.006 | AA20: 0.014 | AB20: 0.003 | AC20: 0.002 | AD20: 0.002 | AE20: 0.004 | AF20: 0.004 | AG20: 0.002 | AH20: 0.002 | AI20: 0.002 | AJ20: 0.004 | AK20: 0.003 | AL20: 0.001 | AM20: 0.001 | AN20: 0.003 | AO20: 0.002 | AP20: 0.002 | AQ20: 0.001 | AR20: 0.002 | AS20: 0.002 | AT20: 0.001 | AU20: 0
B21: Mining support service activities | C21: 0 | D21: 0 | E21: 0.002 | F21: 0.008 | G21: 1.025 | H21: 0 | I21: 0 | J21: 0 | K21: 0 | L21: 0.003 | M21: 0 | N21: 0 | O21: 0 | P21: 0.002 | Q21: 0.001 | R21: 0 | S21: 0 | T21: 0 | U21: 0 | V21: 0 | W21: 0 | X21: 0 | Y21: 0.001 | Z21: 0 | AA21: 0.001 | AB21: 0 | AC21: 0 | AD21: 0 | AE21: 0 | AF21: 0 | AG21: 0 | AH21: 0 | AI21: 0 | AJ21: 0 | AK21: 0 | AL21: 0 | AM21: 0 | AN21: 0 | AO21: 0 | AP21: 0 | AQ21: 0 | AR21: 0 | AS21: 0 | AT21: 0 | AU21: 0
B22: Food products, beverages and tobacco | C22: 0.19 | D22: 0.091 | E22: 0.006 | F22: 0.023 | G22: 0.018 | H22: 1.272 | I22: 0.03 | J22: 0.025 | K22: 0.028 | L22: 0.012 | M22: 0.046 | N22: 0.024 | O22: 0.028 | P22: 0.021 | Q22: 0.019 | R22: 0.017 | S22: 0.016 | T22: 0.019 | U22: 0.018 | V22: 0.021 | W22: 0.025 | X22: 0.018 | Y22: 0.018 | Z22: 0.022 | AA22: 0.015 | AB22: 0.024 | AC22: 0.018 | AD22: 0.015 | AE22: 0.022 | AF22: 0.018 | AG22: 0.012 | AH22: 0.204 | AI22: 0.016 | AJ22: 0.016 | AK22: 0.029 | AL22: 0.011 | AM22: 0.003 | AN22: 0.017 | AO22: 0.026 | AP22: 0.017 | AQ22: 0.014 | AR22: 0.022 | AS22: 0.016 | AT22: 0.017 | AU22: 0
B23: Textiles, textile products, leather and footwear | C23: 0.002 | D23: 0.016 | E23: 0.001 | F23: 0.003 | G23: 0.004 | H23: 0.004 | I23: 1.178 | J23: 0.005 | K23: 0.011 | L23: 0.002 | M23: 0.01 | N23: 0.007 | O23: 0.02 | P23: 0.007 | Q23: 0.005 | R23: 0.006 | S23: 0.005 | T23: 0.006 | U23: 0.005 | V23: 0.016 | W23: 0.005 | X23: 0.016 | Y23: 0.003 | Z23: 0.004 | AA23: 0.004 | AB23: 0.004 | AC23: 0.003 | AD23: 0.003 | AE23: 0.007 | AF23: 0.005 | AG23: 0.002 | AH23: 0.005 | AI23: 0.006 | AJ23: 0.003 | AK23: 0.004 | AL23: 0.002 | AM23: 0.001 | AN23: 0.006 | AO23: 0.005 | AP23: 0.003 | AQ23: 0.001 | AR23: 0.003 | AS23: 0.004 | AT23: 0.005 | AU23: 0
B24: Wood and products of wood and cork | C24: 0.003 | D24: 0.008 | E24: 0.002 | F24: 0.012 | G24: 0.007 | H24: 0.007 | I24: 0.004 | J24: 1.331 | K24: 0.014 | L24: 0.003 | M24: 0.006 | N24: 0.004 | O24: 0.01 | P24: 0.015 | Q24: 0.007 | R24: 0.011 | S24: 0.005 | T24: 0.014 | U24: 0.023 | V24: 0.01 | W24: 0.008 | X24: 0.037 | Y24: 0.004 | Z24: 0.004 | AA24: 0.016 | AB24: 0.003 | AC24: 0.005 | AD24: 0.004 | AE24: 0.005 | AF24: 0.006 | AG24: 0.002 | AH24: 0.004 | AI24: 0.01 | AJ24: 0.004 | AK24: 0.003 | AL24: 0.002 | AM24: 0.001 | AN24: 0.003 | AO24: 0.004 | AP24: 0.002 | AQ24: 0.002 | AR24: 0.003 | AS24: 0.002 | AT24: 0.002 | AU24: 0
B25: Paper products and printing | C25: 0.011 | D25: 0.008 | E25: 0.002 | F25: 0.012 | G25: 0.011 | H25: 0.04 | I25: 0.024 | J25: 0.063 | K25: 1.337 | L25: 0.006 | M25: 0.035 | N25: 0.044 | O25: 0.033 | P25: 0.03 | Q25: 0.014 | R25: 0.022 | S25: 0.015 | T25: 0.025 | U25: 0.022 | V25: 0.017 | W25: 0.013 | X25: 0.032 | Y25: 0.013 | Z25: 0.02 | AA25: 0.009 | AB25: 0.012 | AC25: 0.006 | AD25: 0.007 | AE25: 0.011 | AF25: 0.009 | AG25: 0.005 | AH25: 0.013 | AI25: 0.035 | AJ25: 0.011 | AK25: 0.019 | AL25: 0.015 | AM25: 0.002 | AN25: 0.023 | AO25: 0.01 | AP25: 0.008 | AQ25: 0.007 | AR25: 0.007 | AS25: 0.009 | AT25: 0.009 | AU25: 0
B26: Coke and refined petroleum products | C26: 0.019 | D26: 0.065 | E26: 0.009 | F26: 0.054 | G26: 0.047 | H26: 0.019 | I26: 0.012 | J26: 0.038 | K26: 0.022 | L26: 1.049 | M26: 0.052 | N26: 0.018 | O26: 0.034 | P26: 0.033 | Q26: 0.034 | R26: 0.023 | S26: 0.014 | T26: 0.029 | U26: 0.02 | V26: 0.021 | W26: 0.014 | X26: 0.021 | Y26: 0.039 | Z26: 0.033 | AA26: 0.018 | AB26: 0.011 | AC26: 0.098 | AD26: 0.112 | AE26: 0.075 | AF26: 0.02 | AG26: 0.032 | AH26: 0.009 | AI26: 0.009 | AJ26: 0.009 | AK26: 0.009 | AL26: 0.006 | AM26: 0.002 | AN26: 0.008 | AO26: 0.01 | AP26: 0.009 | AQ26: 0.007 | AR26: 0.007 | AS26: 0.008 | AT26: 0.007 | AU26: 0
B27: Chemical and chemical products | C27: 0.053 | D27: 0.022 | E27: 0.007 | F27: 0.063 | G27: 0.043 | H27: 0.042 | I27: 0.046 | J27: 0.089 | K27: 0.074 | L27: 0.021 | M27: 1.313 | N27: 0.138 | O27: 0.168 | P27: 0.105 | Q27: 0.056 | R27: 0.058 | S27: 0.036 | T27: 0.06 | U27: 0.039 | V27: 0.072 | W27: 0.037 | X27: 0.037 | Y27: 0.041 | Z27: 0.058 | AA27: 0.044 | AB27: 0.019 | AC27: 0.017 | AD27: 0.018 | AE27: 0.022 | AF27: 0.025 | AG27: 0.01 | AH27: 0.018 | AI27: 0.022 | AJ27: 0.016 | AK27: 0.018 | AL27: 0.008 | AM27: 0.004 | AN27: 0.019 | AO27: 0.014 | AP27: 0.011 | AQ27: 0.006 | AR27: 0.031 | AS27: 0.012 | AT27: 0.014 | AU27: 0
B28: Pharmaceuticals, medicinal chemical and botanical products | C28: 0.005 | D28: 0.003 | E28: 0.001 | F28: 0.004 | G28: 0.003 | H28: 0.005 | I28: 0.003 | J28: 0.005 | K28: 0.007 | L28: 0.002 | M28: 0.011 | N28: 1.026 | O28: 0.007 | P28: 0.005 | Q28: 0.008 | R28: 0.005 | S28: 0.004 | T28: 0.005 | U28: 0.004 | V28: 0.005 | W28: 0.005 | X28: 0.003 | Y28: 0.003 | Z28: 0.004 | AA28: 0.003 | AB28: 0.004 | AC28: 0.002 | AD28: 0.002 | AE28: 0.003 | AF28: 0.003 | AG28: 0.002 | AH28: 0.003 | AI28: 0.003 | AJ28: 0.003 | AK28: 0.004 | AL28: 0.001 | AM28: 0 | AN28: 0.003 | AO28: 0.002 | AP28: 0.002 | AQ28: 0.001 | AR28: 0.034 | AS28: 0.002 | AT28: 0.002 | AU28: 0
... B62: Total | C62: 1.944 | D62: 1.881 | E62: 1.221 | F62: 2.131 | G62: 2.2 | H62: 2.63 | I62: 1.997 | J62: 2.559 | K62: 2.464 | L62: 2.319 | M62: 2.614 | N62: 2.131 | O62: 2.505 | P62: 2.472 | Q62: 2.812 | R62: 2.635 | S62: 2.271 | T62: 2.678 | U62: 2.53 | V62: 2.887 | W62: 2.611 | X62: 2.118 | Y62: 2.139 | Z62: 2.186 | AA62: 2.116 | AB62: 1.77 | AC62: 2.005 | AD62: 2.143 | AE62: 2.404 | AF62: 2.185 | AG62: 2.066 | AH62: 1.914 | AI62: 2.043 | AJ62: 2.055 | AK62: 1.991 | AL62: 1.736 | AM62: 1.265 | AN62: 1.847 | AO62: 1.815 | AP62: 1.485 | AQ62: 1.278 | AR62: 1.602 | AS62: 1.693 | AT62: 1.564 | AU62: 1

Sheet f (calculation)
C2: Legend
C4: Cell | D4: Meaning
D5: Title
D6: Methodology followed
D7: Final value
C9: Job coefficients (f)
C19: Agriculture, hunting, forestry | D19: Fishing and aquaculture | E19: Mining and quarrying, energy producing products | F19: Mining and quarrying, non-energy producing products | G19: Mining support service activities | H19: Food products, beverages and tobacco | I19: Textiles, textile products, leather and footwear | J19: Wood and products of wood and cork | K19: Paper products and printing | L19: Coke and refined petroleum products | M19: Chemical and chemical products | N19: Pharmaceuticals, medicinal chemical and botanical products | O19: Rubber and plastics products | P19: Other non-metallic mineral products | Q19: Basic metals | R19: Fabricated metal products | S19: Computer, electronic and optical equipment | T19: Electrical equipment | U19: Machinery and equipment, nec | V19: Motor vehicles, trailers and semi-trailers | W19: Other transport equipment | X19: Manufacturing nec; repair and installation of machinery and equipment | Y19: Electricity, gas, steam and air conditioning supply | Z19: Water supply; sewerage, waste management and remediation activities | AA19: Construction | AB19: Wholesale and retail trade; repair of motor vehicles | AC19: Land transport and transport via pipelines | AD19: Water transport | AE19: Air transport | AF19: Warehousing and support activities for transportation | AG19: Postal and courier activities | AH19: Accommodation and food service activities | AI19: Publishing, audiovisual and broadcasting activities | AJ19: Telecommunications | AK19: IT and other information services | AL19: Financial and insurance activities | AM19: Real estate activities | AN19: Professional, scientific and technical activities | AO19: Administrative and support services | AP19: Public administration and defence; compulsory social security | AQ19: Education | AR19: Human health and social work activities | AS19: Arts, entertainment and recreation | AT19: Other service activities | AU19: Activities of households as employers; undifferentiated goods- and services-producing activities of households for own use
A20: f | C20: =C24 -> 0.38795975 | D20: =D24 -> 0.24642805 | E20: =E24 -> 0.036445027 | F20: =F24 -> 0.063810557 | G20: =G24 -> 0.65204268 | H20: =H24 -> 0.052419949 | I20: =I24 -> 0.056693474 | J20: =J24 -> 0.1408594 | ... AU20: =AU24 -> 0
C23: Agriculture, hunting, forestry | D23: Fishing and aquaculture | E23: Mining and quarrying, energy producing products | F23: Mining and quarrying, non-energy producing products | G23: Mining support service activities | H23: Food products, beverages and tobacco | I23: Textiles, textile products, leather and footwear | J23: Wood and products of wood and cork | K23: Paper products and printing | L23: Coke and refined petroleum products | M23: Chemical and chemical products | N23: Pharmaceuticals, medicinal chemical and botanical products | O23: Rubber and plastics products | P23: Other non-metallic mineral products | Q23: Basic metals | R23: Fabricated metal products | S23: Computer, electronic and optical equipment | T23: Electrical equipment | U23: Machinery and equipment, nec | V23: Motor vehicles, trailers and semi-trailers | W23: Other transport equipment | X23: Manufacturing nec; repair and installation of machinery and equipment | Y23: Electricity, gas, steam and air conditioning supply | Z23: Water supply; sewerage, waste management and remediation activities | AA23: Construction | AB23: Wholesale and retail trade; repair of motor vehicles | AC23: Land transport and transport via pipelines | AD23: Water transport | AE23: Air transport | AF23: Warehousing and support activities for transportation | AG23: Postal and courier activities | AH23: Accommodation and food service activities | AI23: Publishing, audiovisual and broadcasting activities | AJ23: Telecommunications | AK23: IT and other information services | AL23: Financial and insurance activities | AM23: Real estate activities | AN23: Professional, scientific and technical activities | AO23: Administrative and support services | AP23: Public administration and defence; compulsory social security | AQ23: Education | AR23: Human health and social work activities | AS23: Arts, entertainment and recreation | AT23: Other service activities | AU23: Activities of households as employers; undifferentiated goods- and services-producing activities of households for own use
A24: f = S (I-A)-1 (h·USD-1) | B24: Agriculture, hunting, forestry | C24: {=(Sj!C64:AU64)*('IOT inverse Leontief'!C17:AU61)} -> 0.38795975 | D24: 0.24642805 | E24: 0.036445027 | F24: 0.063810557 | G24: 0.65204268 | H24: 0.052419949 | I24: 0.056693474 | J24: 0.1408594 | K24: 0.045214598 | L24: 0.0029657329 | M24: 0.028311629 | N24: 0.058895199 | O24: 0.038361678 | P24: 0.016260634 | Q24: 0.006600873 | R24: 0.0060052276 | S24: 0.044834639 | T24: 0.013332105 | U24: 0.010321737 | V24: 0.0041533362 | W24: 0.014900933 | X24: 0.010779112 | Y24: 0.0034970946 | Z24: 0.0075178882 | AA24: 0.0010981784 | AB24: 0.0010225368 | AC24: 0.0026426963 | AD24: 0.080985269 | AE24: 0.016555293 | AF24: 0.0034682006 | AG24: 0.024159751 | AH24: 0.0099932521 | AI24: 0.010326575 | AJ24: 0.0050124739 | AK24: 0.0060821605 | AL24: 0.0013438354 | AM24: 0.00027764283 | AN24: 0.0017287118 | AO24: 0.0027131481 | AP24: 0.0020423343 | AQ24: 0.0021655392 | AR24: 0.0019175982 | AS24: 0.0057246403 | AT24: 0.0047245131 | AU24: 0
B25: Fishing and aquaculture | C25: 0 | D25: 7.5421919 | E25: 0 | F25: 0 | G25: 0 | H25: 0.00033177183 | I25: 0 | J25: 0 | K25: 0 | L25: 0 | M25: 0 | N25: 0 | O25: 0 | P25: 0 | Q25: 0 | R25: 0 | S25: 0 | T25: 0 | U25: 0 | V25: 0 | W25: 0 | X25: 0 | Y25: 0 | Z25: 0 | AA25: 0 | AB25: 0 | AC25: 0 | AD25: 0 | AE25: 0 | AF25: 0 | AG25: 0 | AH25: 0 | AI25: 0 | AJ25: 0 | AK25: 0 | AL25: 0 | AM25: 0 | AN25: 0 | AO25: 0 | AP25: 0 | AQ25: 0 | AR25: 0 | AS25: 0 | AT25: 0 | AU25: 0
B26: Mining and quarrying, energy producing products | C26: 0.0060231195 | D26: 0.32110322 | E26: 18.368294 | F26: 0.22865449 | G26: 3.9122561 | H26: 0.0028200606 | I26: 0.011548671 | J26: 0.084515637 | K26: 0.023634904 | L26: 0.318322 | M26: 0.023761545 | N26: 0.023838533 | O26: 0.030285535 | P26: 0.037941479 | Q26: 0.031804206 | R26: 0.014740104 | S26: 0.062768494 | T26: 0.031108246 | U26: 0.018766794 | V26: 0.0065266712 | W26: 0.017384422 | X26: 0.014924925 | Y26: 0.053855256 | Z26: 0.017769554 | AA26: 0.0021963568 | AB26: 0.00093732542 | AC26: 0.025671907 | AD26: 0.64788215 | AE26: 0.096020701 | AF26: 0.0086705014 | AG26: 0.092612381 | AH26: 0.001665542 | AI26: 0.0092939172 | AJ26: 0.0075187109 | AK26: 0.0044233895 | AL26: 0.0013438354 | AM26: 0.00027764283 | AN26: 0.0017287118 | AO26: 0.0022198484 | AP26: 0.0020423343 | AQ26: 0.0018561764 | AR26: 0.0013423188 | AS26: 0.0051521763 | AT26: 0.0047245131 | AU26: 0
B27: Mining and quarrying, non-energy producing products | C27: 0.00070860229 | D27: 0.02240255 | E27: 0.018222514 | F27: 5.450485 | G27: 1.2316362 | H27: 0.00066354366 | I27: 0.0020997583 | J27: 0.011268752 | K27: 0.0082208361 | L27: 0.00098857763 | M27: 0.0060667776 | N27: 0.0084135999 | O27: 0.006057107 | P27: 0.058538283 | Q27: 0.054607222 | R27: 0.016923823 | S27: 0.040351175 | T27: 0.044440351 | U27: 0.015951775 | V27: 0.0044500031 | W27: 0.0099339556 | X27: 0.0058041374 | Y27: 0.0013988378 | Z27: 0.0041006663 | AA27: 0.0019218122 | AB27: 0.0002556342 | AC27: 0.00075505608 | AD27: 0.017996726 | AE27: 0.0066221173 | AF27: 0.0017341003 | AG27: 0.0080532505 | AH27: 0.0003331084 | AI27: 0.0020653149 | AJ27: 0.002506237 | AK27: 0.001658771 | AL27: 0.00026876709 | AM27: 0.00013882141 | AN27: 0.00064826694 | AO27: 0.00049329965 | AP27: 0.00045385207 | AQ27: 0.00030936274 | AR27: 0.00038351965 | AS27: 0.0011449281 | AT27: 0.00067493045 | AU27: 0
B28: Mining support service activities | C28: 0 | D28: 0 | E28: 0.036445027 | F28: 0.042540371 | G28: 74.260417 | H28: 0 | I28: 0 | J28: 0 | K28: 0 | L28: 0.0014828664 | M28: 0 | N28: 0 | O28: 0 | P28: 0.0021680845 | Q28: 0.00060007936 | R28: 0 | S28: 0 | T28: 0 | U28: 0 | V28: 0 | W28: 0 | X28: 0 | Y28: 0.00034970946 | Z28: 0 | AA28: 0.0001372723 | AB28: 0 | AC28: 0 | AD28: 0 | AE28: 0 | AF28: 0 | AG28: 0 | AH28: 0 | AI28: 0 | AJ28: 0 | AK28: 0 | AL28: 0 | AM28: 0 | AN28: 0 | AO28: 0 | AP28: 0 | AQ28: 0 | AR28: 0 | AS28: 0 | AT28: 0 | AU28: 0
B29: Food products, beverages and tobacco | C29: 0.067317218 | D29: 0.67954402 | E29: 0.10933508 | F29: 0.12230357 | G29: 1.3040854 | H29: 0.21100688 | I29: 0.031496374 | J29: 0.070429698 | K29: 0.028772926 | L29: 0.0059314658 | M29: 0.023255981 | N29: 0.0336544 | O29: 0.028266499 | P29: 0.022764888 | Q29: 0.011401508 | R29: 0.0092808063 | S29: 0.071735422 | T29: 0.021109167 | U29: 0.016890115 | V29: 0.0062300043 | W29: 0.031043611 | X29: 0.014924925 | Y29: 0.0062947702 | Z29: 0.015035776 | AA29: 0.0020590845 | AB29: 0.0020450736 | AC29: 0.0067955047 | AD29: 0.13497545 | AE29: 0.036421645 | AF29: 0.0078034513 | AG29: 0.048319503 | AH29: 0.033977057 | AI29: 0.016522519 | AJ29: 0.010024948 | AK29: 0.016034787 | AL29: 0.002956438 | AM29: 0.00041646424 | AN29: 0.0036735126 | AO29: 0.0064128955 | AP29: 0.0038577426 | AQ29: 0.0043310784 | AR29: 0.0042187161 | AS29: 0.0091594245 | AT29: 0.011473818 | AU29: 0
B30: Textiles, textile products, leather and footwear | C30: 0.00070860229 | D30: 0.11948027 | E30: 0.018222514 | F30: 0.015952639 | G30: 0.28979675 | H30: 0.00066354366 | I30: 1.2367576 | J30: 0.01408594 | K30: 0.01130365 | L30: 0.00098857763 | M30: 0.005055648 | N30: 0.0098158666 | O30: 0.020190357 | P30: 0.0075882959 | Q30: 0.0030003968 | R30: 0.0032755787 | S30: 0.022417319 | T30: 0.0066660526 | U30: 0.0046916986 | V30: 0.00474667 | W30: 0.0062087223 | X30: 0.0132666 | Y30: 0.0010491284 | Z30: 0.0027337775 | AA30: 0.0005490892 | AB30: 0.00034084561 | AC30: 0.0011325841 | AD30: 0.02699509 | AE30: 0.011588705 | AF30: 0.0021676254 | AG30: 0.0080532505 | AH30: 0.00083277101 | AI30: 0.0061959448 | AJ30: 0.0018796777 | AK30: 0.0022116947 | AL30: 0.00053753418 | AM30: 0.00013882141 | AN30: 0.0012965339 | AO30: 0.0012332491 | AP30: 0.00068077811 | AQ30: 0.00030936274 | AR30: 0.00057527947 | AS30: 0.0022898561 | AT30: 0.0033746522 | AU30: 0
B31: Wood and products of wood and cork | C31: 0.0010629034 | D31: 0.059740134 | E31: 0.036445027 | F31: 0.063810557 | G31: 0.50714431 | H31: 0.0011612014 | I31: 0.0041995166 | J31: 3.7496771 | K31: 0.014386463 | L31: 0.0014828664 | M31: 0.0030333888 | N31: 0.0056090666 | O31: 0.010095178 | P31: 0.016260634 | Q31: 0.0042005555 | R31: 0.0060052276 | S31: 0.022417319 | T31: 0.015554123 | U31: 0.021581813 | V31: 0.0029666687 | W31: 0.0099339556 | X31: 0.030679012 | Y31: 0.0013988378 | Z31: 0.0027337775 | AA31: 0.0021963568 | AB31: 0.0002556342 | AC31: 0.0018876402 | AD31: 0.035993453 | AE31: 0.0082776466 | AF31: 0.0026011504 | AG31: 0.0080532505 | AH31: 0.0006662168 | AI31: 0.010326575 | AJ31: 0.002506237 | AK31: 0.001658771 | AL31: 0.00053753418 | AM31: 0.00013882141 | AN31: 0.00064826694 | AO31: 0.0009865993 | AP31: 0.00045385207 | AQ31: 0.00061872548 | AR31: 0.00057527947 | AS31: 0.0011449281 | AT31: 0.0013498609 | AU31: 0
B32: Paper products and printing | C32: 0.0038973126 | D32: 0.059740134 | E32: 0.036445027 | F32: 0.063810557 | G32: 0.79694106 | H32: 0.0066354366 | I32: 0.0251971 | J32: 0.17748284 | K32: 1.3739072 | L32: 0.0029657329 | M32: 0.017694768 | N32: 0.061699733 | O32: 0.033314089 | P32: 0.032521268 | Q32: 0.008401111 | R32: 0.012010455 | S32: 0.067251958 | T32: 0.027775219 | U32: 0.020643474 | V32: 0.0050433368 | W32: 0.016142678 | X32: 0.0265332 | Y32: 0.0045462229 | Z32: 0.013668888 | AA32: 0.0012354507 | AB32: 0.0010225368 | AC32: 0.0022651682 | AD32: 0.062988542 | AE32: 0.018210823 | AF32: 0.0039017256 | AG32: 0.020133126 | AH32: 0.0021652046 | AI32: 0.036143011 | AJ32: 0.0068921516 | AK32: 0.01050555 | AL32: 0.0040315063 | AM32: 0.00027764283 | AN32: 0.0049700465 | AO32: 0.0024664983 | AP32: 0.0018154083 | AQ32: 0.0021655392 | AR32: 0.0013423188 | AS32: 0.0051521763 | AT32: 0.006074374 | AU32: 0
B33: Coke and refined petroleum products | C33: 0.0067317218 | D33: 0.48538859 | E33: 0.16400262 | F33: 0.2871475 | G33: 3.4051118 | H33: 0.0031518324 | I33: 0.01259855 | J33: 0.10705314 | K33: 0.022607299 | L33: 0.51850897 | M33: 0.026289369 | N33: 0.0252408 | O33: 0.034323606 | P33: 0.035773395 | Q33: 0.020402698 | R33: 0.012556385 | S33: 0.062768494 | T33: 0.032219254 | U33: 0.018766794 | V33: 0.0062300043 | W33: 0.017384422 | X33: 0.017412412 | Y33: 0.013638669 | Z33: 0.022553665 | AA33: 0.0024709014 | AB33: 0.00093732542 | AC33: 0.036997748 | AD33: 1.0078167 | AE33: 0.1241647 | AF33: 0.0086705014 | AG33: 0.12885201 | AH33: 0.0014989878 | AI33: 0.0092939172 | AJ33: 0.0056390332 | AK33: 0.0049763131 | AL33: 0.0016126025 | AM33: 0.00027764283 | AN33: 0.0017287118 | AO33: 0.0024664983 | AP33: 0.0020423343 | AQ33: 0.0021655392 | AR33: 0.0013423188 | AS33: 0.0045797122 | AT33: 0.0047245131 | AU33: 0
B34: Chemical and chemical products | C34: 0.018777961 | D34: 0.16428537 | E34: 0.1275576 | F34: 0.33500542 | G34: 3.115315 | H34: 0.0069672084 | I34: 0.048294441 | J34: 0.25072972 | K34: 0.076042734 | L34: 0.010380065 | M34: 0.66380658 | N34: 0.1935128 | O34: 0.169599 | P34: 0.11382444 | Q34: 0.033604444 | R34: 0.031663927 | S34: 0.1614047 | T34: 0.066660526 | U34: 0.036595249 | V34: 0.021360015 | W34: 0.045944545 | X34: 0.030679012 | Y34: 0.014338088 | Z34: 0.039639774 | AA34: 0.0060399812 | AB34: 0.0016190166 | AC34: 0.0064179767 | AD34: 0.16197054 | AE34: 0.036421645 | AF34: 0.010838127 | AG34: 0.040266252 | AH34: 0.0029979756 | AI34: 0.022718464 | AJ34: 0.010024948 | AK34: 0.0099526263 | AL34: 0.0021501367 | AM34: 0.00055528565 | AN34: 0.0041056906 | AO34: 0.0034530976 | AP34: 0.0024961864 | AQ34: 0.0018561764 | AR34: 0.0059445546 | AS34: 0.0068695683 | AT34: 0.0094490262 | AU34: 0
B35: Pharmaceuticals, medicinal chemical and botanical products | C35: 0.0017715057 | D35: 0.02240255 | E35: 0.018222514 | F35: 0.021270186 | G35: 0.21734756 | H35: 0.00082942958 | I35: 0.0031496374 | J35: 0.01408594 | K35: 0.0071932316 | L35: 0.00098857763 | M35: 0.0055612128 | N35: 1.4387256 | O35: 0.0070666248 | P35: 0.0054202114 | Q35: 0.0048006349 | R35: 0.0027296489 | S35: 0.017933855 | T35: 0.0055550438 | U35: 0.0037533589 | V35: 0.0014833344 | W35: 0.0062087223 | X35: 0.0024874875 | Y35: 0.0010491284 | Z35: 0.0027337775 | AA35: 0.0004118169 | AB35: 0.00034084561 | AC35: 0.00075505608 | AD35: 0.017996726 | AE35: 0.004966588 | AF35: 0.0013005752 | AG35: 0.0080532505 | AH35: 0.0004996626 | AI35: 0.0030979724 | AJ35: 0.0018796777 | AK35: 0.0022116947 | AL35: 0.00026876709 | AM35: 0 | AN35: 0.00064826694 | AO35: 0.00049329965 | AP35: 0.00045385207 | AQ35: 0.00030936274 | AR35: 0.006519834 | AS35: 0.0011449281 | AT35: 0.0013498609 | AU35: 0
B36: Rubber and plastics products | C36: 0.0053145172 | D36: 0.097077717 | E36: 0.054667541 | F36: 0.10103338 | G36: 1.0867378 | H36: 0.0049765775 | I36: 0.02414722 | J36: 0.11832189 | K36: 0.034938553 | L36: 0.0034600217 | M36: 0.02527824 | N36: 0.046274799 | O36: 1.2094024 | P36: 0.10189997 | Q36: 0.010801428 | R36: 0.012556385 | S36: 0.13002045 | T36: 0.073326579 | U36: 0.030965211 | V36: 0.023140016 | W36: 0.028560122 | X36: 0.025704037 | Y36: 0.0031473851 | Z36: 0.012985443 | AA36: 0.0034318075 | AB36: 0.0011929596 | AC36: 0.0030202243 | AD36: 0.071986906 | AE36: 0.019866352 | AF36: 0.0073699262 | AG36: 0.024159751 | AH36: 0.0023317588 | AI36: 0.010326575 | AJ36: 0.0068921516 | AK36: 0.0055292368 | AL36: 0.0010750684 | AM36: 0.00027764283 | AN36: 0.0021608898 | AO36: 0.0027131481 | AP36: 0.0011346302 | AQ36: 0.00092808822 | AR36: 0.0013423188 | AS36: 0.0045797122 | AT36: 0.0053994436 | AU36: 0
