Workbook

Sheet Introduction
A3: Funding entity | G3: Coordinating and developing partner
A12: Annex A. Job Creation Potential calculator tool
A15: Introduction
A16: Job Creation Potential (JCP) is a social indicator from an S-LCA (Social Life Cycle Assessment) that quantifies the total number of jobs that a product system can create. In this sense, it represents the aggregation of jobs created internally (foreground system) and those generated by suppliers to support the process (background system). Likewise, this methodology has the advantage of relying on the same inventory information used in Life Cycle Assessment (LCA), leading to significant time and resource savings. On the one hand, foreground jobs are determined by quantifying the Working Hours (WH) associated. The required WH are then divided by the Full-Time Equivalent (FTE) at the country level, which represents the number of hours a full-time employee works for an organization over a specific time period (e.g., one year). On the other hand, the methodology developed by Pillain et al. (2019)1 is used as a reference to quantify background jobs. This involves transforming the Life Cycle Inventory (LCI) into WH and incorporating FTE factors. Similarly, a distinction is made between direct induced jobs (those created directly by suppliers to service the process) and indirect induced jobs, which are created at a supplier’s supplier to develop a direct input. The total JCP is then calculated as the sum of both: jobs from the foreground and background systems. Likewise, as an innovative contribution, the JCP is calculated per Functional Unit (FU) and can be further scaled using a Scaling Factor (SF) if desired. A detailed step-by-step description of the procedure is provided in the Methodology section. Additionally, guidance on how to use the JCP tool is shown in the Instructions section. Finally, an index of the different sheets included in this Excel file is available, along with a contact email for further assistance (see Contact section). ¹Pillain, B., Viana, L.R., Lefeuvre, A., Jacquemin, L., Sonnemann, G., 2019. Social life cycle assessment framework for evaluation of potential job creation with an application in the French carbon fiber aeronautical recycling sector. Int. J. Life Cycle Assess. 24, 1729–1742. https://doi.org/10.1007/s11367-019-01593-y
A18: Methodology
A43: Instructions
A44: 1. Indicate the total number of WH in the 'Working Hours (WH)' sheet. 2. Verify this data in the 'Job Creation Potential (JCP)' sheet. Select the country of the study and the Full-Time Equivalent (FTE) will automatically be filled in. This way, the JCP (foreground) per FU is obtained. 3. In the 'Job coefficients (f)' sheet, update (if available) the f values for each economic sector involved. These values can be obtained from Input-Output Tables (IOTs) (see Appendix A. Job coefficients (f) estimation) or social databases (e.g., PSILCA, SHDB or EXIOBASE). Then, in the 'Job Creation Potential (JCP)' sheet, select the corresponding economic sector for each input/output, and f values will be automatically filled in. 4. If the IOTs approach is followed, fill out the 'Life Cycle Inventory (LCI)' sheet with all inputs/outputs with an associated cost. Then, relativize the LCI by the FU selected. In the 'Job Creation Potential (JCP)' sheet, verify the data entered in the LCI table. Introduce the costs of each input. The value of Y (economic flow) is obtained automatically. Conversely, If a social database is used, complete the economic flow (Y) in the 'Job Creation Potential (JCP)' sheet. 5. WH relative to the background system are automatically calculated by multiplying the job coefficients (f) by the economic flow (Y). 6. JCP relative to the background system is determined by choosing the country of origin of each input to obtain the specific FTE. The results can be distinguished between direct and indirect job positions if the 'Direct-Indirect Job' sheet is completed with the relevant data for a country and reference year. 7. The total jobs (from the foreground and background systems) per FU are obtained automatically. 8. Introduce on the 'Job Creation Potential (JCP)' sheet a specific Scaling Factor (SF). An example is provided based on the potential availability of the main Raw Material (RM) used in a specific context (in terms of time and location). In addition, the SF required to comply with the FU has to be specified. In this way, the FU according to the SF selected is automatically obtained. 9. The total JCP upscaled, including both the jobs obtained from foreground and background systems will be automatically calculated.
A58: Index
A59: Job Creation Potential (JCP) | B59: Calculation tool, linked to background tabs (highlighted in orange). Results of an hypothetical example are displayed
A60: Working Hours (WH) | B60: Hours worked necessary to produce a particular input/output of the inventory
A61: Full-Time Equivalent (FTE) | B61: Total number of hours worked per year by one employee
A62: Life Cycle Inventory (LCI) | B62: Inventory of the inputs/outputs of the foreground system with an associated cost
A63: Job coefficient (f) | B63: Direct and indirect working hours required to produce one monetary unit
A64: Direct-indirect jobs | B64: List of direct and indirect jobs for each sector
A66: Contact
A67: If you have any questions, please do not hesitate to contact us on the following email account: calimero@contactica.es

Sheet Job Creation Potential (JCP)
B2: Legend
B4: Cell | C4: Meaning
C5: Title
C6: Editable value
C7: Selectable country/sector
C8: Description
C9: Final value
B11: Job Creation Potential (JCP) per FU - foreground system
B13: Foreground jobs are those created by the product system itself.
B17: Step 1 - Working hours (WH) accounting
A19: Variable | B19: Description | D19: Value | E19: Unit | F19: Source
A20: Whforeground | B20: Total number of hours worked in the foreground system per Functional Unit (FU) | D20: ='Working Hours (WH)'!D21 -> 41753.6 | E20: h·FU-1 | F20: Primary data (see Working Hours (WH))
B22: Step 2 - Full-Time Equivalent (FTE) estimation
A24: Variable | B24: Description | D24: Country | E24: Value | F24: Unit | G24: Source
A25: FTE | B25: Number of hours a full-time employee works for an organization over a specific time period (e.g., one year) | D25: Spain | E25: =LOOKUP(D25,'Full-Time Equivalent (FTE)'!$A$15:$A$185,'Full-Time Equivalent (FTE)'!$B$15:$B$185) -> 1697.6 | F25: h·(worker·year)-1 | G25: OECD and ILOSTAT (see Full-Time Equivalent (FTE))
B27: Step 3 - Calculation of foreground jobs
A29: Variable | B29: Description | D29: Value | E29: Unit
A30: JCP (foreground) | B30: Jobs created in the foreground system | D30: =ROUNDDOWN(D20/E25,0) -> 24 | E30: (worker·year)·FU-1
B32: Job Creation Potential (JCP) per FU - background system
B34: Step 1 - Jobs coefficients (f) selection
B36: Jobs coefficients can be obtained from Input-Output Tables (IOTs) or from social databases (e.g., SHDB, PSILCA or EXIOBASE). The IOTs option is developed in Appendix A. Job coefficients (f) estimation. An examples is provided for the Spanish context in 2018.
A38: Variable | B38: Description | D38: Unit | F38: Source
A39: f | B39: Job coefficient | D39: h·€-1 | F39: OECD (see Job coefficients (f))
B41: Input/output | C41: Economic sector | D41: f (h·€-1)
B42: Process 1 | C42: Agriculture, hunting, forestry | D42: =VLOOKUP("*"&C42&"*",'Job coefficients (f)'!$A$32:$B$76,2,FALSE) -> 0.45706851
B43: Process 2 | C43: Wood and products of wood and cork | D43: =VLOOKUP("*"&C43&"*",'Job coefficients (f)'!$A$32:$B$76,2,FALSE) -> 0.16595122
B44: Process 3 | C44: Coke and refined petroleum products | D44: =VLOOKUP("*"&C44&"*",'Job coefficients (f)'!$A$32:$B$76,2,FALSE) -> 0.0034940303
B45: Process 4 | C45: Electricity, gas, steam and air conditioning supply | D45: =VLOOKUP("*"&C45&"*",'Job coefficients (f)'!$A$32:$B$76,2,FALSE) -> 0.0041200454
B46: Process 5 | C46: Water supply; sewerage, waste management and remediation activities | D46: =VLOOKUP("*"&C46&"*",'Job coefficients (f)'!$A$32:$B$76,2,FALSE) -> 0.0088570785
B48: Step 1a - Monetary conversion (in case of using IOTs)
B50: Conversion of the Life Cycle Inventory (LCI) into monetary terms when using IOTs. For social datasets, complete directly Y.
A53: Variable | B53: Description | D53: Unit | F53: Source
A54: Y | B54: Economic demand relative to each input of the Life Cycle Inventory | D54: € | F54: Own calculation
A55: Qmaterial | B55: Quantity of each input of the Life Cycle Inventory relative to the Functional Unit | D55: kg·FU-1, kWh·FU-1... | F55: Primary data (see Life Cycle Inventory (LCI))
A56: Pprice | B56: Price of each input of the Life Cycle Inventory | D56: €·kg-1, €·kWh-1... | F56: Primary data (see Life Cycle Inventory (LCI))
G58: Y (€·FU-1)
B59: Input/output | C59: Qmaterial | D59: Unit | E59: Pprice | F59: Unit | G59: Using IOTs | H59: Using social databases
B60: Process 1 | C60: ='Life Cycle Inventory (LCI)'!C26 -> 5000 | D60: kg·FU-1 | E60: 2.5 | F60: €·kg-1 | G60: =C60*E60 -> 12500
B61: Process 2 | C61: ='Life Cycle Inventory (LCI)'!C27 -> 1500 | D61: kg·FU-1 | E61: 1 | F61: €·kg-1 | G61: =C61*E61 -> 1500
B62: Process 3 | C62: ='Life Cycle Inventory (LCI)'!C28 -> 18500 | D62: kWh·FU-1 | E62: 5 | F62: €·kWh-1 | G62: =C62*E62 -> 92500
...

Sheet Working Hours (WH)
B2: Legend
B4: Cell | C4: Meaning
C5: Title
C6: Editable value
C7: Description
C8: Final value
B10: Compile key information about your product system regarding the Working Hours (WH) required to operate a process
B12: Information has to be normalized per Functional Unit (FU) in order to be easily integrated with others life cycle indicators (e.g., from Life Cycle Assessment (LCA) or Social LCA (S-LCA)), thus promoting Life Cycle Sustainability Assessment (LCSA) methodologies.
B14: Item | C14: Life Cycle Inventory of hours worked | F14: Item | G14: Total production
B15: Process in the product system | C15: WH (h) | D15: WH per FU (h) | F15: Value | G15: 10000
B16: Process 1 | C16: 117000 | D16: =($G$19*C16)/$G$15 -> 23400 | F16: Unit | G16: kg
B17: Process 2 | C17: 46800 | D17: =($G$19*C17)/$G$15 -> 9360
B18: Process 3 | C18: 25200 | D18: =($G$19*C18)/$G$15 -> 5040 | F18: Item | G18: FU
B19: Process 4 | C19: 13000 | D19: =($G$19*C19)/$G$15 -> 2600 | F19: Value | G19: 2000
B20: Process 5 | C20: 6768 | D20: =($G$19*C20)/$G$15 -> 1353.6 | F20: Unit | G20: kg
B21: Total | C21: =SUM(C16:C20) -> 208768 | D21: =SUM(D16:D20) -> 41753.6

Sheet Full-Time Equivalent (FTE)
B2: Legend
B4: Cell | C4: Meaning
C5: Title
C6: Editable value
C7: Description
C8: Methodology followed
B10: Full-Time Equivalent (FTE)
B12: Total number of hours worked per year by one employee
A14: Country | B14: FTE (h·(worker·year)-1) | E14: Data from the OECD1 (Organization for Economic Co-operation and Development) database is used to estimate the Full-Time Equivalent (FTE) relative to each country. However, there are data gaps for some countries, so estimations based on ILOSTAT2 (International Labor Statistics) were made for non-OECD countries. In this regard, ILOSTAT provides average weekly hours per employee, which have been relativized per year considering the worldwide average number of working weeks in a year (see the equation below). The reference year is 2018. Where: FTEnon-OECD country: Total number of hours worked per year by one employee at country level relative to a one non-OECD country (h·(worker·year)-1) WHE: Weekly hours worked per employee relative to a one non-OECD country (h·(worker·week)-1) WWY: Working weeks per year, this value can be provided relative to a one non-OECD country or at global scale in case of missing information (week·year-1) 1https://stats.oecd.org/viewhtml.aspx?datasetcode=ANHRS&lang=en 2https://ilostat.ilo.org/topics/working-time/
A15: Unknown | B15: 1843.3267
A16: Afghanistan | B16: 1829.52
A17: Albania | B17: 1926.54
A18: Algeria | B18: 2018.94
A19: Angola | B19: 1912.68
A20: Argentina | B20: 1709.4
A21: Armenia | B21: 1852.62
A22: Aruba | B22: 1820.28
A23: Australia | B23: 1654
A24: Austria | B24: 1502
A25: Azerbaijan | B25: 1589.28
A26: Bangladesh | B26: 2166.78
... A185: Zimbabwe | B185: 1908.06

Sheet Life Cycle Inventory (LCI)
B2: Legend
B4: Cell | C4: Meaning
C5: Title
C6: Editable value
C7: Description
C8: Final value
B10: Life Cycle Inventory (LCI)
B12: Inventory of the inputs/outputs.
B14: Step 1 - Collection of the inputs/outputs of the product system which have an associated cost
B16: Input/output | C16: Value | D16: Unit
B17: Process 1 | C17: 25000 | D17: kg
B18: Process 2 | C18: 7500 | D18: kg
B19: Process 3 | C19: 92500 | D19: kWh
B20: Process 4 | C20: 11100 | D20: kWh
B21: Process 5 | C21: 2000 | D21: L
B23: Step 2 - Relativization of the inventory by the FU
B25: Input/output | C25: Value | D25: Unit
B26: Process 1 | C26: =C17*'Working Hours (WH)'!$G$19/'Working Hours (WH)'!$G$15 -> 5000 | D26: kg·FU-1
B27: Process 2 | C27: =C18*'Working Hours (WH)'!$G$19/'Working Hours (WH)'!$G$15 -> 1500 | D27: kg·FU-1
B28: Process 3 | C28: =C19*'Working Hours (WH)'!$G$19/'Working Hours (WH)'!$G$15 -> 18500 | D28: kWh·FU-1
B29: Process 4 | C29: =C20*'Working Hours (WH)'!$G$19/'Working Hours (WH)'!$G$15 -> 2220 | D29: kWh·FU-1
B30: Process 5 | C30: =C21*'Working Hours (WH)'!$G$19/'Working Hours (WH)'!$G$15 -> 400 | D30: L·FU-1

Sheet Job coefficients (f)
B2: Legend
B4: Cell | E4: Meaning
C5: Title
C6: Editable value
C7: Description
C8: Methodology followed
B10: Job coefficients (f)
B12: Direct and indirect Working Hours (WH) required to produce one monetary unit relative to a specific economic sector. Job coefficients (f) can be obtained by two different ways: (i) Input-Output Tables (IOTs) or (ii) social databases (e.g., PSILCA, SHDB or EXIOBASE). Here, we have selected the IOTs option.
A20: Variable | B20: Description | F20: Unit | G20: Source
A21: Sj | B21: Hours worked per monetary unit in an economic sector (j), an element of matrix S | F21: h·€-1 | G21: OECD
A22: Kj | B22: Amount of direct WH per economic sector (j) | F22: h
A23: Xj | B23: Total quantity of monetary output per economic sector (j) | F23: €
A24: A | B24: Matrix of technical coefficients | F24: NA
A25: aij | B25: Technical coefficient of an economic sector (i) by total economic output of another economic sector (j), an element of matrix A | F25: NA
A26: Xij | B26: Quantity of monetary units from one economic sector (i) necessary to another economic sector (j) | F26: €
A27: I | B27: Identity matrix | F27: NA
A28: f | B28: Job coefficient, direct and indirect WH required to produce one monetary unit relative to a specific economic sector | F28: h·€-1
A31: Economic sector | B31: f (h·€-1) | F31: These job coefficients (f) can be calculated manually using Input-Output Tables (IOTs) from OECD (Organization for Economic Co-operation and Development), as explained by Pillain et al. (2019), or obtained directly from a social database such as PSILCA, SHDB or EXIOBASE. More precisely, these databases already have pre-collected data for step 1a (monetary conversion), apart from matrixes A and S. The only thing that is needed is to run the inversion using the following equation: As an example, the data shown in the table on the left were obtained from IOTs from the OECD, using Spain and the year 2018 as a reference. In this way, f values for the sectors involved in the product system analyzed have to be selected. For more information in this regard, consult the following Excel file: Appendix A. Technical coefficients (f) estimation. ¹Pillain, B., Viana, L.R., Lefeuvre, A., Jacquemin, L., Sonnemann, G., 2019. Social life cycle assessment framework for evaluation of potential job creation with an application in the French carbon fiber aeronautical recycling sector. Int. J. Life Cycle Assess. 24, 1729–1742. https://doi.org/10.1007/s11367-019-01593-y
A32: Agriculture, hunting, forestry | B32: 0.45706851
A33: Fishing and aquaculture | B33: 0.29032523
A34: Mining and quarrying, energy producing products | B34: 0.04293712
A35: Mining and quarrying, non-energy producing products | B35: 0.075177376
A36: Mining support service activities | B36: 0.76819355
A37: Food products, beverages and tobacco | B37: 0.061757716
A38: Textiles, textile products, leather and footwear | B38: 0.0667925
A39: Wood and products of wood and cork | B39: 0.16595122
A40: Paper products and printing | B40: 0.053268848
A41: Coke and refined petroleum products | B41: 0.0034940303
A42: Chemical and chemical products | B42: 0.033354888
A43: Pharmaceuticals, medicinal chemical and botanical products | B43: 0.069386427
... A76: Activities of households as employers; undifferentiated goods- and services-producing activities of households for own use | B76: 0

Sheet Direct-indirect jobs
B2: Legend
B4: Cell | C4: Meaning
C5: Title
C6: Editable value
C7: Description
C8: Methodology followed
B10: Direct-indirect jobs
B12: Diferentiation between direct and indirect jobs per sector.
A14: Economic sector | B14: Total number of jobs | C14: Direct jobs | D14: Indirect jobs | E14: Direct jobs | F14: Indirect jobs
A15: Agriculture, hunting, forestry | B15: =SUM(C15:D15) -> 234.9 | C15: 182.5 | D15: 52.4 | E15: =C15/B15 -> 0.77692635 | F15: =D15/B15 -> 0.22307365
A16: Fishing and aquaculture | B16: =SUM(C16:D16) -> 7.8 | C16: 6 | D16: 1.8 | E16: =C16/B16 -> 0.76923077 | F16: =D16/B16 -> 0.23076923 | H16: Information about direc-indirect jobs was obtained from the OECD dataset. For the proposed case, Spain and the year 2018 were selected as the reference.
A17: Mining and quarrying, energy producing products | B17: =SUM(C17:D17) -> 0.9 | C17: 0.4 | D17: 0.5 | E17: =C17/B17 -> 0.44444444 | F17: =D17/B17 -> 0.55555556
A18: Mining and quarrying, non-energy producing products | B18: =SUM(C18:D18) -> 13 | C18: 6.2 | D18: 6.8 | E18: =C18/B18 -> 0.47692308 | F18: =D18/B18 -> 0.52307692
A19: Mining support service activities | B19: =SUM(C19:D19) -> 2 | C19: 0.8 | D19: 1.2 | E19: =C19/B19 -> 0.4 | F19: =D19/B19 -> 0.6
A20: Food products, beverages and tobacco | B20: =SUM(C20:D20) -> 357.3 | C20: 104 | D20: 253.3 | E20: =C20/B20 -> 0.29107193 | F20: =D20/B20 -> 0.70892807
A21: Textiles, textile products, leather and footwear | B21: =SUM(C21:D21) -> 117.5 | C21: 70.9 | D21: 46.6 | E21: =C21/B21 -> 0.60340426 | F21: =D21/B21 -> 0.39659574
A22: Wood and products of wood and cork | B22: =SUM(C22:D22) -> 25.9 | C22: 15.3 | D22: 10.6 | E22: =C22/B22 -> 0.59073359 | F22: =D22/B22 -> 0.40926641
A23: Paper products and printing | B23: =SUM(C23:D23) -> 49.2 | C23: 25.8 | D23: 23.4 | E23: =C23/B23 -> 0.52439024 | F23: =D23/B23 -> 0.47560976
A24: Coke and refined petroleum products | B24: =SUM(C24:D24) -> 38.3 | C24: 3.5 | D24: 34.8 | E24: =C24/B24 -> 0.091383812 | F24: =D24/B24 -> 0.90861619
A25: Chemical and chemical products | B25: =SUM(C25:D25) -> 177.3 | C25: 51 | D25: 126.3 | E25: =C25/B25 -> 0.28764805 | F25: =D25/B25 -> 0.71235195
A26: Pharmaceuticals, medicinal chemical and botanical products | B26: =SUM(C26:D26) -> 119.7 | C26: 73.8 | D26: 45.9 | E26: =C26/B26 -> 0.61654135 | F26: =D26/B26 -> 0.38345865
A27: Rubber and plastics products | B27: =SUM(C27:D27) -> 83.8 | C27: 40.7 | D27: 43.1 | E27: =C27/B27 -> 0.48568019 | F27: =D27/B27 -> 0.51431981
A28: Other non-metallic mineral products | B28: =SUM(C28:D28) -> 69.2 | C28: 32.4 | D28: 36.8 | E28: =C28/B28 -> 0.46820809 | F28: =D28/B28 -> 0.53179191
... A59: Activities of households as employers; undifferentiated goods- and services-producing activities of households for own use | B59: =SUM(C59:D59) -> 0 | C59: 0 | D59: 0 | E59: =C59/B59 -> #DIV/0! | F59: =D59/B59 -> #DIV/0!
